BEGIN:VCALENDAR
PRODID:-//Microsoft Corporation//Outlook 12.0 MIMEDIR//EN
VERSION:2.0
METHOD:PUBLISH
X-MS-OLK-FORCEINSPECTOROPEN:TRUE
BEGIN:VEVENT
CLASS:PUBLIC
CREATED:20260419T115214Z
DESCRIPTION:VER VIDEO\nEn esta sesión vamos a tratar temas relativos al Cumplimiento de Normativas y a la Seguridad tanto de la información como de las personas. Temas que nos afectan directamente y en los que las faltas de cumplimientos pueden tener consecuencias muy graves tanto económicas como de salud.\nEmpezaremos revisando conceptos de los Mantenimientos Técnico-Legales, comentando el ámbito de actuación y viendo ejemplos reales. Incluso podemos ofrecer un Curso de Formación que ayudará a entender e implementar las normativas que afecten a mi instalación y como programar las revisiones y actividades obligatorias en mi Infor EAM.\nLas Normativas sobre Prevención de Riesgos Laborales son cada día más exigentes y tenemos la necesidad de demostrar ante las Autoridades pertinentes que las estamos cumpliendo y que nuestros empleados actúan con las certificaciones, formación, EPI,s y protocolos \nTambién nos afecta la Protección de Datos ya que un sistema capaz de almacenar información sensible de los usuarios, debe ser capaz de localizar toda la información relativa a dichos usuarios para tratarla como sea oportuno en función de la ley GDPR: destruirla, enviarla a un servidor seguro para su archivo, etc \nLas Normativas exigen documentar todas las actuaciones y que exista un sistema de gestión capaz de controlar exhaustivamente el acceso a la información, protegiendo, archivando o destruyendo los datos necesarios.\nComo es costumbre en nuestra serie de Webinars, todos los conceptos anteriores los explicaremos de forma amena sobre un caso práctico, demostrando en vivo las capacidades de Infor EAM para asegurar el cumplimiento de normativas.\n• Conceptos de Mantenimiento Técnico Legal\n• Normas de Prevención de Riesgos Laborales \n• Cumplimiento de Protección de Datos GDPR \n• Gestión Documental \n• Gestión de Permisos, Certificaciones, Cualificaciones, EPIs, \n• Caso práctico. Demo en vivo de los conceptos anteriores \n VER VIDEO\n
DTSTART:20210303T110000
DTEND:20210303T120000
DTSTAMP:20260419T115214Z
LOCATION:Online
PRIORITY:5
SEQUENCE:0
SUMMARY;LANGUAGE=es-es:Tecnowebinars.com - :: Mantenimiento 4.0: cómo Infor EAM ayuda a cumplir normativas técnicas, laborales y sanitarias
TRANSP:OPAQUE
UID:b0280c3bf83c637a145a868e99a736c9 Tecnowebinars.com
X-MICROSOFT-CDO-BUSYSTATUS:BUSY
X-MICROSOFT-CDO-IMPORTANCE:1
X-MICROSOFT-DISALLOW-COUNTER:FALSE
X-MS-OLK-ALLOWEXTERNCHECK:TRUE
X-MS-OLK-AUTOFILLLOCATION:FALSE
X-MS-OLK-CONFTYPE:0
BEGIN:VALARM
TRIGGER:-PT1440M
ACTION:DISPLAY
DESCRIPTION:Reminder
END:VALARM
END:VEVENT
END:VCALENDAR
