BEGIN:VCALENDAR
PRODID:-//Microsoft Corporation//Outlook 12.0 MIMEDIR//EN
VERSION:2.0
METHOD:PUBLISH
X-MS-OLK-FORCEINSPECTOROPEN:TRUE
BEGIN:VEVENT
CLASS:PUBLIC
CREATED:20260419T130553Z
DESCRIPTION: Serie de conferencias Advantech sobre el Internet de las cosas industrial. \nAgenda:\n \nFeb. 24, 2021\n \n10:00AM - 12:30PM (Paris Time)\nl transformation. Co-create an IoT world.\n \n04:00 - 04:10\nTrend and Innovations: The Future of the Industrial IoT World\nJerry O’Gorman Associate Vice President, Industrial-IoT GroupAdvantech\nDirk Finstel CTOAdvantech Europe\n \n04:10 - 04:30\nLeadership Talks: Advantech Getting Ready to the Future of the Industrial IoT World\n \nModerator:\nJash Bansidhar Managing Director Advantech Europe\nPanelist:\nLinda Tsai President, Industrial-IoT GroupAdvantech\nMiller Chang President, Embedded-IoT GroupAdvantech\nMC Chiang Vice President, Service-IoT GroupAdvantech\n \n04:30 - 04:45\nThe Internet of Things Myth\nDr. William Webb AuthorThe Internet of Things Myth\n \n04:45 - 05:00\nDelivering Business Outcomes at the Edge\nSteen Graham General Manager, Edge.AI Scale, Internet of Things GroupIntel\n \n05:00 - 05:15\nPreparing for a New Era of Business with Azure IoT & Mixed Reality\nNicole Denil General Manager, IoT, AsiaMicrosoft\n \n05:15 - 05:30\nEnabling Digital Transformation of Industry Domains\nKC Liu CEOAdvantech\n \n05:30 - 05:45\nUsing AIoT to Drive the Composable Enterprise\nAlfonso Velosa III Research VP, Internet of ThingsGartner\n \n05:45 - 05:55\nAccelerating Digital Transformation through the AIoT Ecosystem Fund\nKen Forster Executive DirectorMomenta\n05:55 - 06:10\nDigital Transformation with  AIoT, WISE-PaaS and WISE-Marketplace\nDr. Allan Yang Chief Technology OfficerAdvantech\n06:10 - 06:30\nConnected Experiences: Co-Creating the AIoT Eco-system for the Future Success\nModerator :\nMike Fahrion CTO, Industrial-IoT Group Advantech North America\nPanelist:\nMichael Dieter New Business & Innovationq.beyond AG\nTim Crowe CEOWrxFlo\nTravis Cox Co-Director of Sales EngineeringInductive Automation\n
DTSTART:20210224T100000
DTEND:20210224T183000
DTSTAMP:20260419T130553Z
LOCATION:Online
PRIORITY:5
SEQUENCE:0
SUMMARY;LANGUAGE=es-es:Tecnowebinars.com - :: Internet de las Cosas Industrial. Las conferencias de Advantech
TRANSP:OPAQUE
UID:e5779eb9fe0107d0257988b04339461c Tecnowebinars.com
X-MICROSOFT-CDO-BUSYSTATUS:BUSY
X-MICROSOFT-CDO-IMPORTANCE:1
X-MICROSOFT-DISALLOW-COUNTER:FALSE
X-MS-OLK-ALLOWEXTERNCHECK:TRUE
X-MS-OLK-AUTOFILLLOCATION:FALSE
X-MS-OLK-CONFTYPE:0
BEGIN:VALARM
TRIGGER:-PT1440M
ACTION:DISPLAY
DESCRIPTION:Reminder
END:VALARM
END:VEVENT
END:VCALENDAR
