BEGIN:VCALENDAR
PRODID:-//Microsoft Corporation//Outlook 12.0 MIMEDIR//EN
VERSION:2.0
METHOD:PUBLISH
X-MS-OLK-FORCEINSPECTOROPEN:TRUE
BEGIN:VEVENT
CLASS:PUBLIC
CREATED:20260419T130553Z
DESCRIPTION:In recent years, the amount of embedded software in automobiles has grown exponentially.  At the same time, technologies such as artificial intelligence, machine learning, internet of things, and autonomous controls are being deployed to make cars ‘smarter’ while making it more challenging to ensure they are safe and secure.  In particular, the global advanced driver assistance system (ADAS) market is expected to reach USD 67.43 billion by 2025, growing at a CAGR 19.0%, according to a new report by Grand View Research, Inc.  Government requirements for safer vehicles combined with customer demands for increased autonomy are driving this growth.  \nWhile no vehicle on the road today operates at Level 5, new ADAS technologies enable higher levels of autonomy, and established technologies are being quickly introduced across all makes and models of vehicles.  It should come as no surprise that ADAS systems tend to fall into the higher ISO26262 ASIL levels, requiring more rigorous development, testing, and safety and security assurance processes.\n \nThe combination of the growth of embedded software and growth of safety and security requirements is putting a strain on traditional systems and software development processes and tools.  Tools and processes need to be enhanced and improved to support:\nCross Discipline Collaboration \nTraceability and Transparency Throughout the Development Lifecycle\nRapid Iterative Development\nInsightful Impact Analysis and Change Management\nEfficient and Predictable Tool Qualification\n \nDuring this webinar, we will explore these areas of improvement, explain why they are important, and show how they can accelerate delivery and compliance of ADAS systems and software.\nIf you're already registered for the Accelerating \n \nSPEAKERS:\nStephen Di Camillo\nTechnical Marketing and Business Development Manager\nLDRA Technologies\nJaikumar Daniel\nPre-Sales Consultant\nIntland Software\n
DTSTART:20210210T150000
DTEND:20210210T160000
DTSTAMP:20260419T130553Z
LOCATION:Online
PRIORITY:5
SEQUENCE:0
SUMMARY;LANGUAGE=es-es:Tecnowebinars.com - :: Accelerating Delivery and Compliance of ADAS Systems and Software
TRANSP:OPAQUE
UID:e8f63534dbe8bcc782d4f4e1e56e947f Tecnowebinars.com
X-MICROSOFT-CDO-BUSYSTATUS:BUSY
X-MICROSOFT-CDO-IMPORTANCE:1
X-MICROSOFT-DISALLOW-COUNTER:FALSE
X-MS-OLK-ALLOWEXTERNCHECK:TRUE
X-MS-OLK-AUTOFILLLOCATION:FALSE
X-MS-OLK-CONFTYPE:0
BEGIN:VALARM
TRIGGER:-PT1440M
ACTION:DISPLAY
DESCRIPTION:Reminder
END:VALARM
END:VEVENT
END:VCALENDAR
