BEGIN:VCALENDAR
PRODID:-//Microsoft Corporation//Outlook 12.0 MIMEDIR//EN
VERSION:2.0
METHOD:PUBLISH
X-MS-OLK-FORCEINSPECTOROPEN:TRUE
BEGIN:VEVENT
CLASS:PUBLIC
CREATED:20260419T130559Z
DESCRIPTION:Imagina poder medir grandes volúmenes de superficies con la mayor rapidez por segundo; esto sólo puede suceder con el nuevo sensor de fotogrametría RS-SQUARED, el primer escáner de área 3D en un brazo de medición portátil. \nOs invitamos a esta nueva sesión, en donde mediante una demostración práctica, conocereis las ventajas que ofrece el sensor RS-SQUARED, diseñado para permitir un rápido escaneo de superficie gracias a la alta frecuencia de la trama, sin necesidad de preparación de la superficie ni marcadores de referencia.\n \n¿Quiénes deben asistir?  \nIdeal para aplicaciones de inspección e ingeniería inversa de grandes superficies, también está enfocado a piezas grandes, sin muchos recovecos ni muchas pestañas o pines. \n \nSector ferroviario, automoción (chapa, puertas, chasis), naval, fundición, aeronáutico (pieles grandes con aja precisión). \n \n¿Por qué deben asistir? \nConocerán de primera mano las nuevas soluciones que os permitirán reinventar vuestra manera de escanear, mejorando vuestros procesos. \n \n
DTSTART:20210225T110000
DTEND:20210225T120000
DTSTAMP:20260419T130559Z
LOCATION:Online
PRIORITY:5
SEQUENCE:0
SUMMARY;LANGUAGE=es-es:Tecnowebinars.com - :: Escáner 3D en brazo de medición portátil RS-Squared
TRANSP:OPAQUE
UID:8a4a947cb01ec911b1d36dad48a65d66 Tecnowebinars.com
X-MICROSOFT-CDO-BUSYSTATUS:BUSY
X-MICROSOFT-CDO-IMPORTANCE:1
X-MICROSOFT-DISALLOW-COUNTER:FALSE
X-MS-OLK-ALLOWEXTERNCHECK:TRUE
X-MS-OLK-AUTOFILLLOCATION:FALSE
X-MS-OLK-CONFTYPE:0
BEGIN:VALARM
TRIGGER:-PT1440M
ACTION:DISPLAY
DESCRIPTION:Reminder
END:VALARM
END:VEVENT
END:VCALENDAR
