BEGIN:VCALENDAR
PRODID:-//Microsoft Corporation//Outlook 12.0 MIMEDIR//EN
VERSION:2.0
METHOD:PUBLISH
X-MS-OLK-FORCEINSPECTOROPEN:TRUE
BEGIN:VEVENT
CLASS:PUBLIC
CREATED:20260419T131529Z
DESCRIPTION:VER VIDEO \n \nAnálisis, evaluación y selección de Software con TEC Advisor. Intro y demo.\n \nLa magia y la ciencia de TEC Advisor - un sistema de soporte de decisiones basado en la nube\nAdquirir o reemplazar un sistema de software empresarial, como ERP, puede ser bastante largo y complejo. \n \n¿Cómo se comparan y miden todos estos factores para tomar la mejor decisión, en el menor tiempo posible y al mejor precio?\nSi es una empresa o entidad gubernamental que busca adquirir un nuevo software comercial, o está pensando en migrar a la nube, o si es un consultor de TI que realiza una selección imparcial de software, este seminario web es valioso para ti.\nEntre otras ventajas, TEC Advisor facilitará:\n \n• La comparación del software empresarial lado a lado de manera detallada y clara\n• La reducción del tiempo, del costo y del riesgo asociados con la selección de software \n• Un enfoque imparcial y basado en datos \n• La promoción del consenso interno entre los distintos departamentos y diversos grupos de interés\n• La evaluación de los partners de implementación, así como el software \n• La contribución del costo para llegar a una equivalencia de valor\n \nNo tema realizar cambios en el software de su empresa o sentirse abrumado por el compromiso que cree que requerirá, Technology Evaluation Centers, junto con TEC Advisor, lo guiarán de manera clara y eficiente a través de todo el proceso. Te veremos allá.\n \nEl jueves 18 febrero a las 16:00 hora de Madrid, 10:00 am en Bogotá y 9:00 am en la Ciudad de México\nVER VIDEO \n \n
DTSTART:20210218T160000
DTEND:20210218T170000
DTSTAMP:20260419T131529Z
LOCATION:Online
PRIORITY:5
SEQUENCE:0
SUMMARY;LANGUAGE=es-es:Tecnowebinars.com - :: Selección, evaluación y análisis de Software con TEC Advisor. Intro y demo.
TRANSP:OPAQUE
UID:771128d2732fd5e430f9424b5d738fd5 Tecnowebinars.com
X-MICROSOFT-CDO-BUSYSTATUS:BUSY
X-MICROSOFT-CDO-IMPORTANCE:1
X-MICROSOFT-DISALLOW-COUNTER:FALSE
X-MS-OLK-ALLOWEXTERNCHECK:TRUE
X-MS-OLK-AUTOFILLLOCATION:FALSE
X-MS-OLK-CONFTYPE:0
BEGIN:VALARM
TRIGGER:-PT1440M
ACTION:DISPLAY
DESCRIPTION:Reminder
END:VALARM
END:VEVENT
END:VCALENDAR
