BEGIN:VCALENDAR
PRODID:-//Microsoft Corporation//Outlook 12.0 MIMEDIR//EN
VERSION:2.0
METHOD:PUBLISH
X-MS-OLK-FORCEINSPECTOROPEN:TRUE
BEGIN:VEVENT
CLASS:PUBLIC
CREATED:20260419T125809Z
DESCRIPTION:Introduction of low cost lidar sensors had increased its popularity across automated driving and robotics industry.\nIn this webinar, you will learn how to build lidar based development workflows for perception and navigation in autonomous driving and robotics applications.\nHighlights\n    In this webinar you will gain insights on:\n       - Reading and streaming lidar data.\n       - Apply deep learning algorithms on lidar point cloud.\n       - Cross calibrate lidar and camera sensors.\n        - Map building and SLAM using lidar data\n         - Object tracking on sequential point cloud data.\nPlease allow approximately 45 minutes to attend the presentation and Q&A session. We will be recording this webinar, so if you can't make it for the live broadcast, register and we will send you a link to watch it on-demand.\nAbout the Presenter\nMinhaj Palakkaparambil Mohammed is a product manager at MathWorks, with a focus on autonomous systems and lidar point cloud processing. Prior to joining MathWorks he worked as a lead engineer for developing autonomous systems. He holds a masters degree from NIT Suratkal in India.\n
DTSTART:20210217T103000
DTEND:20210217T113000
DTSTAMP:20260419T125809Z
LOCATION:Online
PRIORITY:5
SEQUENCE:0
SUMMARY;LANGUAGE=es-es:Tecnowebinars.com - :: Lidar Processing for Autonomous Systems
TRANSP:OPAQUE
UID:dd386e2a471f9e45e40aad71e63d44eb Tecnowebinars.com
X-MICROSOFT-CDO-BUSYSTATUS:BUSY
X-MICROSOFT-CDO-IMPORTANCE:1
X-MICROSOFT-DISALLOW-COUNTER:FALSE
X-MS-OLK-ALLOWEXTERNCHECK:TRUE
X-MS-OLK-AUTOFILLLOCATION:FALSE
X-MS-OLK-CONFTYPE:0
BEGIN:VALARM
TRIGGER:-PT1440M
ACTION:DISPLAY
DESCRIPTION:Reminder
END:VALARM
END:VEVENT
END:VCALENDAR
