BEGIN:VCALENDAR
PRODID:-//Microsoft Corporation//Outlook 12.0 MIMEDIR//EN
VERSION:2.0
METHOD:PUBLISH
X-MS-OLK-FORCEINSPECTOROPEN:TRUE
BEGIN:VEVENT
CLASS:PUBLIC
CREATED:20260419T114208Z
DESCRIPTION:In this session you will learn the basics of simulating physical systems in Simscape. The physical network approach in Simscape enables you to model physical systems by simply assembling a schematic of physical components. You can tailor level of model fidelity to match your engineering task, which makes your development process more efficient.\nHighlights\n          - Modeling running robot with electric, mechanical, and multibody components\n         - Estimating motor parameters\n         - Target applications for Simscape\n         - How to get started modeling physical systems\nPlease allow approximately 45 minutes to attend the presentation and Q&A session. We will be recording this webinar, so if you can't make it for the live broadcast, register and we will send you a link to watch it on-demand.\n
DTSTART:20210121T103000
DTEND:20210121T113000
DTSTAMP:20260419T114208Z
LOCATION:Online
PRIORITY:5
SEQUENCE:0
SUMMARY;LANGUAGE=es-es:Tecnowebinars.com - :: Introduction to Simscape for Modeling Multidomain Physical Systems
TRANSP:OPAQUE
UID:70fda05105b7b90772101403f7ec863e Tecnowebinars.com
X-MICROSOFT-CDO-BUSYSTATUS:BUSY
X-MICROSOFT-CDO-IMPORTANCE:1
X-MICROSOFT-DISALLOW-COUNTER:FALSE
X-MS-OLK-ALLOWEXTERNCHECK:TRUE
X-MS-OLK-AUTOFILLLOCATION:FALSE
X-MS-OLK-CONFTYPE:0
BEGIN:VALARM
TRIGGER:-PT1440M
ACTION:DISPLAY
DESCRIPTION:Reminder
END:VALARM
END:VEVENT
END:VCALENDAR
