BEGIN:VCALENDAR
PRODID:-//Microsoft Corporation//Outlook 12.0 MIMEDIR//EN
VERSION:2.0
METHOD:PUBLISH
X-MS-OLK-FORCEINSPECTOROPEN:TRUE
BEGIN:VEVENT
CLASS:PUBLIC
CREATED:20260419T114208Z
DESCRIPTION:Estar quieto en estos días significa retroceder. Apegarse a los procesos de fabricación tradicionales, los departamentos en silos y los sistemas de datos desarticulados supondrá un gran problema en el embalaje.\n \nUn camino a seguir: desafíe las métricas obsoletas como OEE.\n \nSi bien OEE es el estándar de oro tradicional para medir la productividad operativa, no se mantendrá a medida que la presión continúe aumentando:\n \n- Alta personalización con muchos productos hechos a medida\n- Nuevas demandas de cumplimiento\n- Cambios rápidos en el ciclo de vida del producto y proliferación de SKU\n- Muchos, muchos otros problemas con el embalaje\n \nÚnase a QAD en este seminario web de 30 minutos, cambie su forma de pensar y libere a su negocio (ya usted mismo) de un ancla invisible que arrastra el EBITDA.\n
DTSTART:20210114T170000
DTEND:20210114T173000
DTSTAMP:20260419T114208Z
LOCATION:Online
PRIORITY:5
SEQUENCE:0
SUMMARY;LANGUAGE=es-es:Tecnowebinars.com - :: El OEE se queda obsoleto. ¿Sabe por qué?
TRANSP:OPAQUE
UID:6bc6152fc3a74e62600fd189412a5bbe Tecnowebinars.com
X-MICROSOFT-CDO-BUSYSTATUS:BUSY
X-MICROSOFT-CDO-IMPORTANCE:1
X-MICROSOFT-DISALLOW-COUNTER:FALSE
X-MS-OLK-ALLOWEXTERNCHECK:TRUE
X-MS-OLK-AUTOFILLLOCATION:FALSE
X-MS-OLK-CONFTYPE:0
BEGIN:VALARM
TRIGGER:-PT1440M
ACTION:DISPLAY
DESCRIPTION:Reminder
END:VALARM
END:VEVENT
END:VCALENDAR
