BEGIN:VCALENDAR
PRODID:-//Microsoft Corporation//Outlook 12.0 MIMEDIR//EN
VERSION:2.0
METHOD:PUBLISH
X-MS-OLK-FORCEINSPECTOROPEN:TRUE
BEGIN:VEVENT
CLASS:PUBLIC
CREATED:20260419T131713Z
DESCRIPTION:En esta sesión, que será liderada por Alex Campos, Solutions Engineer de Cloudera, se ahondará en cuestiones como:\nCómo utilizar la nube para extender las capacidades de tu data center.\nCómo mantener la integridad de datos y seguridad entre distintas infraestructuras.\nCómo utilizar tecnologías de la nube en tus instalaciones on premises.\nCasos de uso típicos para arquitecturas híbridas y multi cloud.\n
DTSTART:20201216T100000
DTEND:20201216T110000
DTSTAMP:20260419T131713Z
LOCATION:Online
PRIORITY:5
SEQUENCE:0
SUMMARY;LANGUAGE=es-es:Tecnowebinars.com - :: Hybrid Analytics con Cloudera Data Platform
TRANSP:OPAQUE
UID:58899a1f6eeb6ec5a385257f50b2ecc1 Tecnowebinars.com
X-MICROSOFT-CDO-BUSYSTATUS:BUSY
X-MICROSOFT-CDO-IMPORTANCE:1
X-MICROSOFT-DISALLOW-COUNTER:FALSE
X-MS-OLK-ALLOWEXTERNCHECK:TRUE
X-MS-OLK-AUTOFILLLOCATION:FALSE
X-MS-OLK-CONFTYPE:0
BEGIN:VALARM
TRIGGER:-PT1440M
ACTION:DISPLAY
DESCRIPTION:Reminder
END:VALARM
END:VEVENT
END:VCALENDAR
