BEGIN:VCALENDAR
PRODID:-//Microsoft Corporation//Outlook 12.0 MIMEDIR//EN
VERSION:2.0
METHOD:PUBLISH
X-MS-OLK-FORCEINSPECTOROPEN:TRUE
BEGIN:VEVENT
CLASS:PUBLIC
CREATED:20260419T131550Z
DESCRIPTION: Las criptomonedas y en concreto Bitcoin ha demostrado ser el activo más rentable de los últimos 10 años.\n¿Está cambiando nuestra forma de ver el dinero?\n \n¿Que ha propiciado que Bitcoin supere todas las expectativas?\n \nEsta es una pregunta que seguro ronda la cabeza de todo el mundo antes de decidirse a dar el paso a entrar en este ecosistema.\n \nHace 8 años nadie creía que Bitcoin podría alcanzar los niveles que ha alcanzado este año o el año 2017. Y no solo se trata del precio, también la adopción a nivel mundial ha alcanzado niveles nunca antes imaginados; bancos invirtiendo en Bitcoin, países depositando parte de sus reservas en Bitcoin o empresas como Microstrategy invirtiendo sus ahorros en la criptomoneda.\n \nQueremos esclarecer todas tus dudas en este webinario, así que prepara tus preguntas y prepárate para conocer todos los secretos de Bitcoin y las Criptomonedas.\n \nPROGRAMA \n \n               - ¿Qué es el Dinero y cuales son sus características?\n \n               - Criptodivisas ¿pueden funcionar como dinero?\n \n               - Propiedades claves de Bitcoin\n \n               - Tecnología Blockchain\n \n               - ¿Quién acepta y apuesta por Bitcoin hoy en día?\n \n               - ¿Cómo entrar en el ecosistema?\n
DTSTART:20201217T180000
DTEND:20201217T193000
DTSTAMP:20260419T131550Z
LOCATION:Online
PRIORITY:5
SEQUENCE:0
SUMMARY;LANGUAGE=es-es:Tecnowebinars.com - :: Iniciación a las Criptomonedas ¿Qué son y cuál es su futuro?
TRANSP:OPAQUE
UID:5ac67d898bcf376651a07060f5efb5ac Tecnowebinars.com
X-MICROSOFT-CDO-BUSYSTATUS:BUSY
X-MICROSOFT-CDO-IMPORTANCE:1
X-MICROSOFT-DISALLOW-COUNTER:FALSE
X-MS-OLK-ALLOWEXTERNCHECK:TRUE
X-MS-OLK-AUTOFILLLOCATION:FALSE
X-MS-OLK-CONFTYPE:0
BEGIN:VALARM
TRIGGER:-PT1440M
ACTION:DISPLAY
DESCRIPTION:Reminder
END:VALARM
END:VEVENT
END:VCALENDAR
