BEGIN:VCALENDAR
PRODID:-//Microsoft Corporation//Outlook 12.0 MIMEDIR//EN
VERSION:2.0
METHOD:PUBLISH
X-MS-OLK-FORCEINSPECTOROPEN:TRUE
BEGIN:VEVENT
CLASS:PUBLIC
CREATED:20260419T131712Z
DESCRIPTION:Web applications are the most frequently attacked assets in an IT environment. They present some of the greatest security challenges and are responsible for some of the biggest and most costly attacks. While prevention strategies focused on network firewalls and user access controls are important, they are not sufficient. \nDuring this webinar, you’ll:\n \nLearn about the key capabilities needed to prevent, detect, and respond to web application attacks\nDiscover requirements to detect attacks at the endpoint, network, cloud, and application layers\nLearn about the critical role a response strategy plays in minimizing the impact of an attack\n \nSpeaker:\nBharath Vasudevan\nVP Product Marketing, Alert Logic\n
DTSTART:20201210T100000
DTEND:20201210T110000
DTSTAMP:20260419T131712Z
LOCATION:Online
PRIORITY:5
SEQUENCE:0
SUMMARY;LANGUAGE=es-es:Tecnowebinars.com - :: Closing the Gap Comprehensive Threat Detection for Web Applications
TRANSP:OPAQUE
UID:c7050cbadd498c3e7563dfbc03f5a06d Tecnowebinars.com
X-MICROSOFT-CDO-BUSYSTATUS:BUSY
X-MICROSOFT-CDO-IMPORTANCE:1
X-MICROSOFT-DISALLOW-COUNTER:FALSE
X-MS-OLK-ALLOWEXTERNCHECK:TRUE
X-MS-OLK-AUTOFILLLOCATION:FALSE
X-MS-OLK-CONFTYPE:0
BEGIN:VALARM
TRIGGER:-PT1440M
ACTION:DISPLAY
DESCRIPTION:Reminder
END:VALARM
END:VEVENT
END:VCALENDAR
