BEGIN:VCALENDAR
PRODID:-//Microsoft Corporation//Outlook 12.0 MIMEDIR//EN
VERSION:2.0
METHOD:PUBLISH
X-MS-OLK-FORCEINSPECTOROPEN:TRUE
BEGIN:VEVENT
CLASS:PUBLIC
CREATED:20260419T131712Z
DESCRIPTION:Agenda día 3:\n \n4:00 GMT / 09:00 EST  Strategies to Achieve Better Financial Productivity and Performance Across Your Organisation\nStephen Sutcliffe, Director of Finance & Accounting, NHS Shared Business Services\n15:00 GMT / 10:00 EST  Building Smarter Solutions with AI, RPA, and DPA in Financial Services\nPaul Hsu, Director of Product Marketing, Nintex\n16:00 GMT / 11:00 EST  Top 3 Technologies To Leverage For Accounts Payable & Finance Automation & How To Deploy Them\nAndrew Spada, Sr. Director Automation Solutions, Lateetud\nLisa Lafayette, Senior Solutions Consultant, Bizagi\nDaneen Storc, Director of Product Marketing, ABBYY\n17:00 GMT / 12:00 EST  Case Study: Implementing Automation Effectively in a Time of Covid\nJeanette Wade, CFO, Ascentria Care Alliance\nDeb Sweet, Manager, Accounts Payable, Ascentria Care Alliance\nThe global pandemic has meant that automating financial processes has now become a necessity. Remote work, the need to reduce costs and respond quickly to market shifts have all heightened the importance of automated processes to enhance the agility and efficiency of finance operations.\n \nWith that in mind, Finance Process Automation 2020 will be focused on:\n- Identifying which processes to automate if you are at the beginning of your automation journey\n- Assessing the relative merits of an end to end vs. point solutions for automating your finance function\n- Leveraging tools such as RPA and Workflow Automation to enhance the integration of your finance processes, and reduce the burden of high volume, low value transactions\n- Understanding how to utilize Process Mining to identify inefficient processes within your finance department\n \n \n
DTSTART:20201210T140000
DTEND:20201210T180000
DTSTAMP:20260419T131712Z
LOCATION:Online
PRIORITY:5
SEQUENCE:0
SUMMARY;LANGUAGE=es-es:Tecnowebinars.com - :: Finance Process Automation 2020. Día 3.
TRANSP:OPAQUE
UID:df899d244263749d94b6905155f9449e Tecnowebinars.com
X-MICROSOFT-CDO-BUSYSTATUS:BUSY
X-MICROSOFT-CDO-IMPORTANCE:1
X-MICROSOFT-DISALLOW-COUNTER:FALSE
X-MS-OLK-ALLOWEXTERNCHECK:TRUE
X-MS-OLK-AUTOFILLLOCATION:FALSE
X-MS-OLK-CONFTYPE:0
BEGIN:VALARM
TRIGGER:-PT1440M
ACTION:DISPLAY
DESCRIPTION:Reminder
END:VALARM
END:VEVENT
END:VCALENDAR
