BEGIN:VCALENDAR
PRODID:-//Microsoft Corporation//Outlook 12.0 MIMEDIR//EN
VERSION:2.0
METHOD:PUBLISH
X-MS-OLK-FORCEINSPECTOROPEN:TRUE
BEGIN:VEVENT
CLASS:PUBLIC
CREATED:20260419T131558Z
DESCRIPTION:Learn about the Trace Modeling functionality in Ansys Sherlock and how it can be leveraged for analyses of printed circuit board assemblies (PCBAs). This will include a general overview, several examples and a live demo highlighting the workflow.\n
DTSTART:20201210T170000
DTEND:20201210T180000
DTSTAMP:20260419T131558Z
LOCATION:Online
PRIORITY:5
SEQUENCE:0
SUMMARY;LANGUAGE=es-es:Tecnowebinars.com - :: Trace Modeling 101: Improving Model Fidelity
TRANSP:OPAQUE
UID:3531581d908fdc69dd5b0e450a314738 Tecnowebinars.com
X-MICROSOFT-CDO-BUSYSTATUS:BUSY
X-MICROSOFT-CDO-IMPORTANCE:1
X-MICROSOFT-DISALLOW-COUNTER:FALSE
X-MS-OLK-ALLOWEXTERNCHECK:TRUE
X-MS-OLK-AUTOFILLLOCATION:FALSE
X-MS-OLK-CONFTYPE:0
BEGIN:VALARM
TRIGGER:-PT1440M
ACTION:DISPLAY
DESCRIPTION:Reminder
END:VALARM
END:VEVENT
END:VCALENDAR
