BEGIN:VCALENDAR
PRODID:-//Microsoft Corporation//Outlook 12.0 MIMEDIR//EN
VERSION:2.0
METHOD:PUBLISH
X-MS-OLK-FORCEINSPECTOROPEN:TRUE
BEGIN:VEVENT
CLASS:PUBLIC
CREATED:20260419T131557Z
DESCRIPTION:Autonomous vehicles must perform flawlessly in hazardous weather conditions to reach Level 5 autonomy. Learn how Ansys SPEOS can simulate weather conditions and analyze sensor performance for lidar, visible cameras and thermal cameras from FLIR Systems.\n
DTSTART:20201210T170000
DTEND:20201210T180000
DTSTAMP:20260419T131557Z
LOCATION:Online
PRIORITY:5
SEQUENCE:0
SUMMARY;LANGUAGE=es-es:Tecnowebinars.com - :: Simulación de condiciones metereológicas en automoviles autonomos con Ansys SPEOS
TRANSP:OPAQUE
UID:9731d0d3e46efdbcbc5e4aab127cfbf7 Tecnowebinars.com
X-MICROSOFT-CDO-BUSYSTATUS:BUSY
X-MICROSOFT-CDO-IMPORTANCE:1
X-MICROSOFT-DISALLOW-COUNTER:FALSE
X-MS-OLK-ALLOWEXTERNCHECK:TRUE
X-MS-OLK-AUTOFILLLOCATION:FALSE
X-MS-OLK-CONFTYPE:0
BEGIN:VALARM
TRIGGER:-PT1440M
ACTION:DISPLAY
DESCRIPTION:Reminder
END:VALARM
END:VEVENT
END:VCALENDAR
