BEGIN:VCALENDAR
PRODID:-//Microsoft Corporation//Outlook 12.0 MIMEDIR//EN
VERSION:2.0
METHOD:PUBLISH
X-MS-OLK-FORCEINSPECTOROPEN:TRUE
BEGIN:VEVENT
CLASS:PUBLIC
CREATED:20260419T131444Z
DESCRIPTION:Este Webinar trata sobre Metodología de trabajo colaborativa para la creación y gestión de un proyecto de Asset Management & Facility Management. ISO 55001 – ISO 41001.\nSpeaker: \nFco.Javier García, experto en Building Information Modeling (BIM) y Modelo de información digital\n
DTSTART:20201209T143000
DTEND:20201209T153000
DTSTAMP:20260419T131444Z
LOCATION:Online
PRIORITY:5
SEQUENCE:0
SUMMARY;LANGUAGE=es-es:Tecnowebinars.com - :: Tecnologías predictivas en el Facility Services Management
TRANSP:OPAQUE
UID:2471d64e855d81e314340e44624ae98e Tecnowebinars.com
X-MICROSOFT-CDO-BUSYSTATUS:BUSY
X-MICROSOFT-CDO-IMPORTANCE:1
X-MICROSOFT-DISALLOW-COUNTER:FALSE
X-MS-OLK-ALLOWEXTERNCHECK:TRUE
X-MS-OLK-AUTOFILLLOCATION:FALSE
X-MS-OLK-CONFTYPE:0
BEGIN:VALARM
TRIGGER:-PT1440M
ACTION:DISPLAY
DESCRIPTION:Reminder
END:VALARM
END:VEVENT
END:VCALENDAR
