BEGIN:VCALENDAR
PRODID:-//Microsoft Corporation//Outlook 12.0 MIMEDIR//EN
VERSION:2.0
METHOD:PUBLISH
X-MS-OLK-FORCEINSPECTOROPEN:TRUE
BEGIN:VEVENT
CLASS:PUBLIC
CREATED:20260419T131557Z
DESCRIPTION:Según Gartner, la ciencia de datos permite extraer conocimiento de los activos de información con el fin de comprender los problemas empresariales. Además de soportarse en capacidades analíticas y modelado para descubrir relaciones entre los datos y detectar patrones.\n \nPor lo anterior, queremos invitarte a este panel de expertos gratuito que tendrá lugar el 3 de diciembre. En éste podrás conocer más sobre conceptos y buenas prácticas a la hora de implementar inteligencia artificial, machine learning y ciencia de datos.\n \nAgenda del panel:\n \nCómo soportar los procesos de ciencia de datos en personas, procesos y tecnología.\nCómo las organizaciones deben aprovechar las personas, los procesos y la tecnología para infundir IA y ML en los procesos empresariales.\nCuáles son las habilidades que debe tener un equipo de científicos de datos.\nCuáles son los componentes claves que se necesitan para una implementación exitosa de ML.\nEntre otros temas que te permitirán tener una mejor comprensión acerca de ciencia de datos.\n \n
DTSTART:20201202T160000
DTEND:20201202T170000
DTSTAMP:20260419T131557Z
LOCATION:Online
PRIORITY:5
SEQUENCE:0
SUMMARY;LANGUAGE=es-es:Tecnowebinars.com - :: Ciencia de Datos: Consejos Prácticos (Panel de Expertos)
TRANSP:OPAQUE
UID:fc161911cbe73f3bd819d29a2c8c0d6a Tecnowebinars.com
X-MICROSOFT-CDO-BUSYSTATUS:BUSY
X-MICROSOFT-CDO-IMPORTANCE:1
X-MICROSOFT-DISALLOW-COUNTER:FALSE
X-MS-OLK-ALLOWEXTERNCHECK:TRUE
X-MS-OLK-AUTOFILLLOCATION:FALSE
X-MS-OLK-CONFTYPE:0
BEGIN:VALARM
TRIGGER:-PT1440M
ACTION:DISPLAY
DESCRIPTION:Reminder
END:VALARM
END:VEVENT
END:VCALENDAR
