BEGIN:VCALENDAR
PRODID:-//Microsoft Corporation//Outlook 12.0 MIMEDIR//EN
VERSION:2.0
METHOD:PUBLISH
X-MS-OLK-FORCEINSPECTOROPEN:TRUE
BEGIN:VEVENT
CLASS:PUBLIC
CREATED:20260419T131550Z
DESCRIPTION:With a focus on the Automatic Data Collection industry, the event will bring together speakers and exhibitors to cover topics like barcode, biometrics, IoT, NFC, RFID, RTLS, and RAIN, from the areas of applications, standards, vertical markets, and more. \nMultiple presentation tracks will allow attendees to choose their preferred subject areas.\n \nAgenda:\nCannabis\n9:00 AM-9:40 AM\nTransforming the global supply chain with RFID\n9:00 AM-9:40 AM\nRFID Tag Chip Types for Use with an RFID Printer\n9:00 AM-9:40 AM\nFDA Blueprint and FSMA 204: Win-Win for Proftability, Transparency and Consumer Safety\n9:40 AM-10:20 AM\nHigher sustainability enabled by RFID systems and sustainable tags\n9:40 AM-10:20 AM\nLabel Information Density Driving Verification\n9:40 AM-10:20 AM\nUsing Variable Color and Images; Helping Customers and Employees Identify Correct SKUs\n10:20 AM-11:00 AM\nConductive Thermal Transfer Printing\n10:20 AM-11:00 AM\nSustainability with IoT Applications | Panel Discussion\n10:20 AM-11:00 AM\nBlockchain & Drug Supply Assurance in the Coronavirus Era\n1:30 PM-2:10 PM\nRFID Adoption and Partnerships: How to create a more robust ecosystem together\n1:30 PM-2:10 PM\nRAIN RFID tire tagging: a major step toward end to end traceability\n1:30 PM-2:10 PM\nEmbracing passive and active RFID as ambient data\n2:10 PM-2:50 PM\nSensor Based Packaging Platform for Pharmaceuticals\n2:10 PM-2:50 PM\nAn Overview of the Physics of Supply Chain Impact Damage Events and the Role of RFID in Detecting It\n2:10 PM-2:50 PM\nRAIN at the jewelry counter\n2:50 PM-3:30 PM\nUHF RFID in Healthcare\n2:50 PM-3:30 PM\nWireless Power in RFID\n2:50 PM-3:30 PM\nRepeat of best 1B\n5:00 PM-5:45 PM\nRepeat of best 1A\n5:00 PM-5:45 PM\nRepeat of best 1C\n5:00 PM-5:45 PM\nRepeat of best 2A\n5:45 PM-6:20 PM\nRepeat of best 2B\n5:45 PM-6:20 PM\nRepeat of best 2C\n5:45 PM-6:20 PM\nRepeat of best 3C\n6:25 PM-7:05 PM\nRepeat of best 3B\n6:25 PM-7:05 PM\nRepeat of best 3A\n6:25 PM-7:05 PM\n
DTSTART:20201210T150000
DTEND:20201210T010000
DTSTAMP:20260419T131550Z
LOCATION:Online
PRIORITY:5
SEQUENCE:0
SUMMARY;LANGUAGE=es-es:Tecnowebinars.com - :: Engage Again
TRANSP:OPAQUE
UID:1afb7ddab149dcb014f4b3c5815ee560 Tecnowebinars.com
X-MICROSOFT-CDO-BUSYSTATUS:BUSY
X-MICROSOFT-CDO-IMPORTANCE:1
X-MICROSOFT-DISALLOW-COUNTER:FALSE
X-MS-OLK-ALLOWEXTERNCHECK:TRUE
X-MS-OLK-AUTOFILLLOCATION:FALSE
X-MS-OLK-CONFTYPE:0
BEGIN:VALARM
TRIGGER:-PT1440M
ACTION:DISPLAY
DESCRIPTION:Reminder
END:VALARM
END:VEVENT
END:VCALENDAR
