BEGIN:VCALENDAR
PRODID:-//Microsoft Corporation//Outlook 12.0 MIMEDIR//EN
VERSION:2.0
METHOD:PUBLISH
X-MS-OLK-FORCEINSPECTOROPEN:TRUE
BEGIN:VEVENT
CLASS:PUBLIC
CREATED:20260419T131557Z
DESCRIPTION:With a focus on the Automatic Data Collection industry, the event will bring together speakers and exhibitors to cover topics like barcode, biometrics, IoT, NFC, RFID, RTLS, and RAIN, from the areas of applications, standards, vertical markets, and more. \nMultiple presentation tracks will allow attendees to choose their preferred subject areas.\n \nAgenda:\nWelcome to engage again\n9:00 AM-9:45 AM\nRAIN in Space: A Review of the use of RFID in the International Space Station\n9:45 AM-10:25 AM\nFrom There to Here and Beyond: A look at the AIDC Market\n10:25 AM-11:05 AM\nRAIN RCI Version 4: Regulations, tag filters, crypto and sensors\n1:30 PM-2:10 PM\nCoexistence of multiple RFID systems in hospitals\n1:30 PM-2:10 PM\nTamper Evident RFID: When Security matters\n1:30 PM-2:10 PM\nRAIN in Action\n2:10 PM-2:50 PM\nContextual Mobility - Better Way to Deliver Data\n2:10 PM-2:50 PM\nHow RAIN RFID technology transforms the healthcare supply chain by automating UDI data capture and o\n2:10 PM-2:50 PM\nAIDC Point of Care Technologies – Innovations and Best Practices\n2:50 PM-3:30 PM\nThe European Commission take radio regulations even more seriously\n2:50 PM-3:30 PM\n75,000 Truckloads shipped without a single Error using Forklift Mounted RFID and the System Directed\n2:50 PM-3:30 PM\nWelcome to engage again\n5:00 PM-5:45 PM\nRAIN in Space: A Review of the use of RFID in the International Space Station\n5:45 PM-6:25 PM\nFrom There to Here and Beyond: A look at the AIDC Market\n6:25 PM-7:05 PM\n
DTSTART:20201209T150000
DTEND:20201209T010000
DTSTAMP:20260419T131557Z
LOCATION:Online
PRIORITY:5
SEQUENCE:0
SUMMARY;LANGUAGE=es-es:Tecnowebinars.com - :: Engage Again
TRANSP:OPAQUE
UID:276a43246f395946c43919bcf1573b24 Tecnowebinars.com
X-MICROSOFT-CDO-BUSYSTATUS:BUSY
X-MICROSOFT-CDO-IMPORTANCE:1
X-MICROSOFT-DISALLOW-COUNTER:FALSE
X-MS-OLK-ALLOWEXTERNCHECK:TRUE
X-MS-OLK-AUTOFILLLOCATION:FALSE
X-MS-OLK-CONFTYPE:0
BEGIN:VALARM
TRIGGER:-PT1440M
ACTION:DISPLAY
DESCRIPTION:Reminder
END:VALARM
END:VEVENT
END:VCALENDAR
