BEGIN:VCALENDAR
PRODID:-//Microsoft Corporation//Outlook 12.0 MIMEDIR//EN
VERSION:2.0
METHOD:PUBLISH
X-MS-OLK-FORCEINSPECTOROPEN:TRUE
BEGIN:VEVENT
CLASS:PUBLIC
CREATED:20260419T131558Z
DESCRIPTION:La Inteligencia Artificial es parte indisoluble del mundo del Data y el Business Intelligence. Por este motivo y para fomentar su uso en el negocio Big Data Magazine ha unido sus fuerzas con AI-Network, la asociación profesional de Inteligencia Artificial, para crear el AI Business Congress.\n \nUn evento en formato híbrido, presencial para los speaker y online para los asistentes, que pretende servir como difusor de la importancia de Inteligencia Artificial.\n \nLa inauguración del congreso correrá a cargo de Ángel Niño, concejal de Innovación y Emprendimiento Ayuntamiento de Madrid. Además habrá tres keynotes de mucho nivel a cargo de Manuel del Barrio, Founder & Head of Business en Decide4AI; Macarena Estévez, socia de Deloitte y David Hurtado, Customer Success Innovation Lead de Microsoft.\n \nLa cita contará con tres mesas redondas en la que se hablará de temas tan interesantes como Lograr ROI en AI, Visión y futuro de la IA y el ecosistema AI. Estarán formadas por doce profesionales del sector del máximo nivel que nos ayudarán a comprender mejor hacia dónde se dirige el mundo de la Inteligencia Artificial.\n \nEntre los participantes confirmados destaca la presencia de:\n \n• Francisco Escalona, Head of Data Science & AI de Orange\n• Unai Obieta, CDO de Ferrovial Servicios\n• Mario Lois, Global Head & Senior Director of Intelligent Solutions de GE Healthcare\n• Kiko Machín, CDO de IE\n• Fernando Bocigas, Director Global Big Data Core Platforms & Strategic Alliances de Telefónica IoT & Big Data Tech\n• Eva Montoro, Head of Advanced Analytic and Data Science de Santander Corporate & Investment Banking.\n• Diana Díaz, Head of Advanced Analytics & Big Data | Digital Strategy & Transformation en Bankia\n• Luis Mateos Keim, Founder | strategist | CEO en Osmotic\n• Gonzalo Torres, Country Manager Spain en Talent Garden\n• David Rey, CDO de Idealista\n• Mariano Muñoz, Manager de Data y Analytics en Acciona\n• Carlos Bort, Head of Data Science de Smart Protection y Junta Directiva de AI-Network\n \nDurante el congreso se presentará también el libro El Valor del dato, obra de Rafael Fernández Campos, CDO de Bankia y presidente del Club Chief Data Officer Spain & Latam y Javier Martínez, Director de Reporting Corporativo en Bankia.\n \nEl evento cuenta ya con el apoyo de patrocinadores como Deloitte, Decide4AI, Microsoft, Experis Solutions y Graph Everywhere así como el apoyo institucional del Ayuntamiento de Madrid. Como colaboradores del evento estarán el Madrid IA Clúster, AxiCom y VinoPremier .\n
DTSTART:20201203T093000
DTEND:20201203T143000
DTSTAMP:20260419T131558Z
LOCATION:Online
PRIORITY:5
SEQUENCE:0
SUMMARY;LANGUAGE=es-es:Tecnowebinars.com - :: Big Data e IA aplicado al negocio. Conferencia Online. (5 horas)
TRANSP:OPAQUE
UID:95bbd4fa5c8f49881cabccff80a8ead6 Tecnowebinars.com
X-MICROSOFT-CDO-BUSYSTATUS:BUSY
X-MICROSOFT-CDO-IMPORTANCE:1
X-MICROSOFT-DISALLOW-COUNTER:FALSE
X-MS-OLK-ALLOWEXTERNCHECK:TRUE
X-MS-OLK-AUTOFILLLOCATION:FALSE
X-MS-OLK-CONFTYPE:0
BEGIN:VALARM
TRIGGER:-PT1440M
ACTION:DISPLAY
DESCRIPTION:Reminder
END:VALARM
END:VEVENT
END:VCALENDAR
