BEGIN:VCALENDAR
PRODID:-//Microsoft Corporation//Outlook 12.0 MIMEDIR//EN
VERSION:2.0
METHOD:PUBLISH
X-MS-OLK-FORCEINSPECTOROPEN:TRUE
BEGIN:VEVENT
CLASS:PUBLIC
CREATED:20260419T114209Z
DESCRIPTION:¿De qué trata laconferencia?\n \nLa irrupción de la COVID-19 ha supuesto un cambio de paradigma para todos los ámbitos de nuestra vida. El confinamiento nos ha obligado a establecer sistemas de trabajo a los que no estábamos acostumbrados hasta ahora.\n \nSe ha puesto a prueba a miles de empresas y empleados que se han visto obligados a lidiar con nuevas distracciones, estrés familiar y caos emocional pero sólo unos pocos están siendo capaces de hacer frente de manera productiva a esta situación consiguiendo acuerdos comerciales y mejorando su posición.\n \n¿Qué te llevas?\n \nDescubre las 4 claves para volvernos ULTRA PRODUCTIVOS en tiempo de kaos\n \nAplica la gestiónd e agenda de 5º generación\n \nAprende el Método KAOS (cómo aprender a realizar únicamente acciones que te lleven a tus objetivo)\n \nMejora la gestión de tus proyectos de forma eficiente con los objetivos inteligentes \n
DTSTART:20210127T170000
DTEND:20210127T180000
DTSTAMP:20260419T114209Z
LOCATION:Online
PRIORITY:5
SEQUENCE:0
SUMMARY;LANGUAGE=es-es:Tecnowebinars.com - :: Máxima Productividad en tiempos de “Kaos”
TRANSP:OPAQUE
UID:e4e73edd67eeeec1703b32ab5e9d9fe3 Tecnowebinars.com
X-MICROSOFT-CDO-BUSYSTATUS:BUSY
X-MICROSOFT-CDO-IMPORTANCE:1
X-MICROSOFT-DISALLOW-COUNTER:FALSE
X-MS-OLK-ALLOWEXTERNCHECK:TRUE
X-MS-OLK-AUTOFILLLOCATION:FALSE
X-MS-OLK-CONFTYPE:0
BEGIN:VALARM
TRIGGER:-PT1440M
ACTION:DISPLAY
DESCRIPTION:Reminder
END:VALARM
END:VEVENT
END:VCALENDAR
