BEGIN:VCALENDAR
PRODID:-//Microsoft Corporation//Outlook 12.0 MIMEDIR//EN
VERSION:2.0
METHOD:PUBLISH
X-MS-OLK-FORCEINSPECTOROPEN:TRUE
BEGIN:VEVENT
CLASS:PUBLIC
CREATED:20260419T131557Z
DESCRIPTION:Prioritic y Onapsis organizan este webinar conjuntamente para darte las claves que harán aumentar drásticamente la seguridad y generar una reducción de costes, supervisando de manera continuada tus servicios SAP y Oracle EBS.\n \nEn esta sesión, veremos los tipos comunes de cambios que ocurren en tu landscape de SAP y Oracle EBS y cómo estos pueden introducir vulnerabilidades de seguridad que pueden obstaculizar la productividad. También destacaremos las razones por las que este vector de amenaza es un objetivo creciente para los atacantes.\n \nAlejandro Abuin, Director Técnico SAP & Cloud explicará cuál es la metodología utilizada por Prioritic para implementar servicios de ciberseguridad de manera satisfactoria y con un ROI claro de proyecto y Ernest Gutiérrez, SAP Security Consultant explicará cual es el valor que ofrece Onapsis en entornos SAP y Oracle EBS\n \nAgenda\nBienvenida e introducción - Alejandro Abuin\nOnapsis para SAP & Oracle - Ernest Gutiérrez\nCiberseguridad con Prioritic - Alejandro Abuin\nRuegos y preguntas (Alejandro Abuin y Ernest Gutiérrez)\nCierre\n
DTSTART:20201203T100000
DTEND:20201203T110000
DTSTAMP:20260419T131557Z
LOCATION:Online
PRIORITY:5
SEQUENCE:0
SUMMARY;LANGUAGE=es-es:Tecnowebinars.com - :: Seguridad en SAP y Oracle EBS con Onapsis
TRANSP:OPAQUE
UID:6be542720c0822703314e97258a74baa Tecnowebinars.com
X-MICROSOFT-CDO-BUSYSTATUS:BUSY
X-MICROSOFT-CDO-IMPORTANCE:1
X-MICROSOFT-DISALLOW-COUNTER:FALSE
X-MS-OLK-ALLOWEXTERNCHECK:TRUE
X-MS-OLK-AUTOFILLLOCATION:FALSE
X-MS-OLK-CONFTYPE:0
BEGIN:VALARM
TRIGGER:-PT1440M
ACTION:DISPLAY
DESCRIPTION:Reminder
END:VALARM
END:VEVENT
END:VCALENDAR
