BEGIN:VCALENDAR
PRODID:-//Microsoft Corporation//Outlook 12.0 MIMEDIR//EN
VERSION:2.0
METHOD:PUBLISH
X-MS-OLK-FORCEINSPECTOROPEN:TRUE
BEGIN:VEVENT
CLASS:PUBLIC
CREATED:20260419T131528Z
DESCRIPTION:Data is the engine powering modern business. It must be shielded from corruption, compromise, or loss at all times, under all circumstances and at all costs. But the overwhelming majority of organizations face data protection challenges, including securing emerging technologies and complying with worldwide data security regulations.\nThis virtual event spotlights expert insights for ensuring that data is available and secured wherever and whenever a business needs it most—whether in the cloud, across corporate endpoints, or on unmanaged devices—and that its policies align with a fast-changing regulatory environment.\n
DTSTART:20201210T170000
DTEND:20201210T230000
DTSTAMP:20260419T131528Z
LOCATION:Online
PRIORITY:5
SEQUENCE:0
SUMMARY;LANGUAGE=es-es:Tecnowebinars.com - :: Data Protection Strategies and Secrets
TRANSP:OPAQUE
UID:e847958f95296e799b9710f1ed0f8ad2 Tecnowebinars.com
X-MICROSOFT-CDO-BUSYSTATUS:BUSY
X-MICROSOFT-CDO-IMPORTANCE:1
X-MICROSOFT-DISALLOW-COUNTER:FALSE
X-MS-OLK-ALLOWEXTERNCHECK:TRUE
X-MS-OLK-AUTOFILLLOCATION:FALSE
X-MS-OLK-CONFTYPE:0
BEGIN:VALARM
TRIGGER:-PT1440M
ACTION:DISPLAY
DESCRIPTION:Reminder
END:VALARM
END:VEVENT
END:VCALENDAR
