BEGIN:VCALENDAR
PRODID:-//Microsoft Corporation//Outlook 12.0 MIMEDIR//EN
VERSION:2.0
METHOD:PUBLISH
X-MS-OLK-FORCEINSPECTOROPEN:TRUE
BEGIN:VEVENT
CLASS:PUBLIC
CREATED:20260419T131551Z
DESCRIPTION:La Asociación XBRL España, con la intención de ayudar a cumplir con las nuevas obligaciones de reporting financiero por las empresas cotizadas, convoca esta Jornada XBRL España 2020 con el objetivo de afrontar los retos y perfilar las estrategias en la implementación ESEF, siendo el foro de propuestas y soluciones de diseño y desarrollo para la puesta en marcha de este marco regulatorio en empresas obligadas y el apoyo de sus proveedores de servicios. Al estar inmersos en esta “anormal” situación que vivimos, fruto de la pandemia de la COVID-19, esta edición de la Jornada XBRL España se celebrará de forma virtual.\n
DTSTART:20201216T090000
DTEND:20201216T140000
DTSTAMP:20260419T131551Z
LOCATION:Online
PRIORITY:5
SEQUENCE:0
SUMMARY;LANGUAGE=es-es:Tecnowebinars.com - :: Jornada XBRL España 2020
TRANSP:OPAQUE
UID:c852ed57cc83bfe2d79c577cd830e811 Tecnowebinars.com
X-MICROSOFT-CDO-BUSYSTATUS:BUSY
X-MICROSOFT-CDO-IMPORTANCE:1
X-MICROSOFT-DISALLOW-COUNTER:FALSE
X-MS-OLK-ALLOWEXTERNCHECK:TRUE
X-MS-OLK-AUTOFILLLOCATION:FALSE
X-MS-OLK-CONFTYPE:0
BEGIN:VALARM
TRIGGER:-PT1440M
ACTION:DISPLAY
DESCRIPTION:Reminder
END:VALARM
END:VEVENT
END:VCALENDAR
