BEGIN:VCALENDAR
PRODID:-//Microsoft Corporation//Outlook 12.0 MIMEDIR//EN
VERSION:2.0
METHOD:PUBLISH
X-MS-OLK-FORCEINSPECTOROPEN:TRUE
BEGIN:VEVENT
CLASS:PUBLIC
CREATED:20260419T131557Z
DESCRIPTION:La plataforma de UiPath es la única que ofrece una experiencia de automatización de 360 grados, de extremo a extremo. Acompáñanos durante esta serie de webinars y descubre cómo la tecnología UiPath permite aumentar, acelerar, simplificar y optimizar las capacidades de automatización de tus procesos.\n
DTSTART:20201210T100000
DTEND:20201210T110000
DTSTAMP:20260419T131557Z
LOCATION:Online
PRIORITY:5
SEQUENCE:0
SUMMARY;LANGUAGE=es-es:Tecnowebinars.com - :: UiPath Process Mining: Radiografíe y optimice sus procesos para escalar su automatización
TRANSP:OPAQUE
UID:4639ccb580761b63fab53e9140e56f78 Tecnowebinars.com
X-MICROSOFT-CDO-BUSYSTATUS:BUSY
X-MICROSOFT-CDO-IMPORTANCE:1
X-MICROSOFT-DISALLOW-COUNTER:FALSE
X-MS-OLK-ALLOWEXTERNCHECK:TRUE
X-MS-OLK-AUTOFILLLOCATION:FALSE
X-MS-OLK-CONFTYPE:0
BEGIN:VALARM
TRIGGER:-PT1440M
ACTION:DISPLAY
DESCRIPTION:Reminder
END:VALARM
END:VEVENT
END:VCALENDAR
