BEGIN:VCALENDAR
PRODID:-//Microsoft Corporation//Outlook 12.0 MIMEDIR//EN
VERSION:2.0
METHOD:PUBLISH
X-MS-OLK-FORCEINSPECTOROPEN:TRUE
BEGIN:VEVENT
CLASS:PUBLIC
CREATED:20260419T131558Z
DESCRIPTION:VER VIDEO \n \nCada vez más, las empresas se enfrentan al desafío de tener que traducir los documentos a enviar a clientes / proveedores / trabajadores, en las lenguas correspondientes, para cumplir regulaciones o para optimizar la comunicación con ellos y mejorar la experiencia relacional. \n \nTe voy a enseñar cómo manejar fácilmente la conversión automática de distintas lenguas cuando la aplicación central no es lo suficientemente flexible para hacerlo de manera amigable y eficiente.\n \nAplica a todo tipo de documentos administrativos, comerciales, financieros tales como facturas, presupuestos, ordenes de pedido, ordenes de trabajo, albaranes, etc.\n \nCon Compleo los desarrollos no tienen freno. \n \nTe invito a presenciar de mi próximo webinar, en donde veremos una demostración práctica de la solución conectada a SAP así como una presentación de los principios de parametrización de la creación de documentos en distintos idiomas. \n
DTSTART:20201217T110000
DTEND:20201217T120000
DTSTAMP:20260419T131558Z
LOCATION:Online
PRIORITY:5
SEQUENCE:0
SUMMARY;LANGUAGE=es-es:Tecnowebinars.com - :: Creación y traducción automática de documentos SAP en distintas lenguas
TRANSP:OPAQUE
UID:fffb62484277eb4c22ce26c6cac50bcc Tecnowebinars.com
X-MICROSOFT-CDO-BUSYSTATUS:BUSY
X-MICROSOFT-CDO-IMPORTANCE:1
X-MICROSOFT-DISALLOW-COUNTER:FALSE
X-MS-OLK-ALLOWEXTERNCHECK:TRUE
X-MS-OLK-AUTOFILLLOCATION:FALSE
X-MS-OLK-CONFTYPE:0
BEGIN:VALARM
TRIGGER:-PT1440M
ACTION:DISPLAY
DESCRIPTION:Reminder
END:VALARM
END:VEVENT
END:VCALENDAR
