BEGIN:VCALENDAR
PRODID:-//Microsoft Corporation//Outlook 12.0 MIMEDIR//EN
VERSION:2.0
METHOD:PUBLISH
X-MS-OLK-FORCEINSPECTOROPEN:TRUE
BEGIN:VEVENT
CLASS:PUBLIC
CREATED:20260419T131551Z
DESCRIPTION:En este seminario web aprenderás cómo implementar un mailroom digital optimizado con automatización inteligente.\nAprenderás a aprovechar rápidamente las ventajas que ofrece una sala de correo digital y también:\n \nHacer uso de la inteligencia artificial integrada, incluido el procesamiento natural del lenguaje (NLP), para optimizar la captura y validación de correo entrante en todos los formatos y canales tanto en papel como electrónicos.\nProporcionar información electrónica estructurada que se transfiere a la perfección sobre sistemas y procesos de negocio.\nPaliar las excepciones que dan lugar a ineficiencias y fricciones importantes en los procesos que requieren contacto con los clientes.\nDistribuir en toda la empresa las operaciones centralizadas en un único punto de entrada de comunicación (mailroom).\n
DTSTART:20201215T100000
DTEND:20201215T113000
DTSTAMP:20260419T131551Z
LOCATION:Online
PRIORITY:5
SEQUENCE:0
SUMMARY;LANGUAGE=es-es:Tecnowebinars.com - :: Crear un mailroom digital optimizado con inteligencia artificial
TRANSP:OPAQUE
UID:d81b688e6f080b2ad01662ff648591c1 Tecnowebinars.com
X-MICROSOFT-CDO-BUSYSTATUS:BUSY
X-MICROSOFT-CDO-IMPORTANCE:1
X-MICROSOFT-DISALLOW-COUNTER:FALSE
X-MS-OLK-ALLOWEXTERNCHECK:TRUE
X-MS-OLK-AUTOFILLLOCATION:FALSE
X-MS-OLK-CONFTYPE:0
BEGIN:VALARM
TRIGGER:-PT1440M
ACTION:DISPLAY
DESCRIPTION:Reminder
END:VALARM
END:VEVENT
END:VCALENDAR
