BEGIN:VCALENDAR
PRODID:-//Microsoft Corporation//Outlook 12.0 MIMEDIR//EN
VERSION:2.0
METHOD:PUBLISH
X-MS-OLK-FORCEINSPECTOROPEN:TRUE
BEGIN:VEVENT
CLASS:PUBLIC
CREATED:20260419T131712Z
DESCRIPTION:This webinar discusses the highly accurate shooting and bouncing ray (SBR+) method within Ansys HFSS. A demonstration will show how it can be combined in a hybrid simulation approach with finite-element boundary integral (FEBI) domains or reading in far-field or near-field sources.\n
DTSTART:20201203T210000
DTEND:20201203T220000
DTSTAMP:20260419T131712Z
LOCATION:Online
PRIORITY:5
SEQUENCE:0
SUMMARY;LANGUAGE=es-es:Tecnowebinars.com - :: Using Azure Cloud to Rapidly Simulate Layout Designs in HFSS
TRANSP:OPAQUE
UID:7bae1adfb938e9ebaa7b1f9bd3112f77 Tecnowebinars.com
X-MICROSOFT-CDO-BUSYSTATUS:BUSY
X-MICROSOFT-CDO-IMPORTANCE:1
X-MICROSOFT-DISALLOW-COUNTER:FALSE
X-MS-OLK-ALLOWEXTERNCHECK:TRUE
X-MS-OLK-AUTOFILLLOCATION:FALSE
X-MS-OLK-CONFTYPE:0
BEGIN:VALARM
TRIGGER:-PT1440M
ACTION:DISPLAY
DESCRIPTION:Reminder
END:VALARM
END:VEVENT
END:VCALENDAR
