BEGIN:VCALENDAR
PRODID:-//Microsoft Corporation//Outlook 12.0 MIMEDIR//EN
VERSION:2.0
METHOD:PUBLISH
X-MS-OLK-FORCEINSPECTOROPEN:TRUE
BEGIN:VEVENT
CLASS:PUBLIC
CREATED:20260419T131528Z
DESCRIPTION:This webinar provides a deep dive into Ansys SpaceClaim's exclusive and highly unique combination of direct modeling, history modeling, and faceted modeling. Learn how SpaceClaim hybrid modeling can help you bring your many ideas together and take your designs to the next level.\n \n
DTSTART:20201202T170000
DTEND:20201202T180000
DTSTAMP:20260419T131528Z
LOCATION:Online
PRIORITY:5
SEQUENCE:0
SUMMARY;LANGUAGE=es-es:Tecnowebinars.com - :: Performing Hybrid Modeling With Ansys SpaceClaim
TRANSP:OPAQUE
UID:7f37810626a69257ef259a52d9b70392 Tecnowebinars.com
X-MICROSOFT-CDO-BUSYSTATUS:BUSY
X-MICROSOFT-CDO-IMPORTANCE:1
X-MICROSOFT-DISALLOW-COUNTER:FALSE
X-MS-OLK-ALLOWEXTERNCHECK:TRUE
X-MS-OLK-AUTOFILLLOCATION:FALSE
X-MS-OLK-CONFTYPE:0
BEGIN:VALARM
TRIGGER:-PT1440M
ACTION:DISPLAY
DESCRIPTION:Reminder
END:VALARM
END:VEVENT
END:VCALENDAR
