BEGIN:VCALENDAR
PRODID:-//Microsoft Corporation//Outlook 12.0 MIMEDIR//EN
VERSION:2.0
METHOD:PUBLISH
X-MS-OLK-FORCEINSPECTOROPEN:TRUE
BEGIN:VEVENT
CLASS:PUBLIC
CREATED:20260419T131550Z
DESCRIPTION:Featuring a guest speaker from JSP, a market leader in engineering foamed products, this webinar shares expert insights on moving from workstations to an HPC workflow environment, leveraging the help of Ansys partners TotalCAE and Dell.\n
DTSTART:20201202T170000
DTEND:20201202T180000
DTSTAMP:20260419T131550Z
LOCATION:Online
PRIORITY:5
SEQUENCE:0
SUMMARY;LANGUAGE=es-es:Tecnowebinars.com - :: JSP: Running Ansys LS-DYNA with HPC to Boost Productivity
TRANSP:OPAQUE
UID:a824f6090f48b18d718d1e8e49e6773a Tecnowebinars.com
X-MICROSOFT-CDO-BUSYSTATUS:BUSY
X-MICROSOFT-CDO-IMPORTANCE:1
X-MICROSOFT-DISALLOW-COUNTER:FALSE
X-MS-OLK-ALLOWEXTERNCHECK:TRUE
X-MS-OLK-AUTOFILLLOCATION:FALSE
X-MS-OLK-CONFTYPE:0
BEGIN:VALARM
TRIGGER:-PT1440M
ACTION:DISPLAY
DESCRIPTION:Reminder
END:VALARM
END:VEVENT
END:VCALENDAR
