BEGIN:VCALENDAR
PRODID:-//Microsoft Corporation//Outlook 12.0 MIMEDIR//EN
VERSION:2.0
METHOD:PUBLISH
X-MS-OLK-FORCEINSPECTOROPEN:TRUE
BEGIN:VEVENT
CLASS:PUBLIC
CREATED:20260419T131444Z
DESCRIPTION:Ansys LS-DYNA is typically used to study the dynamic responses of structures, but it can also predict the sound radiated by vibrating structures during dynamic loading events. Learn how to use LS-DYNA acoustics simulation capabilities for a wide range of problems.\n \n
DTSTART:20201202T070000
DTEND:20201202T080000
DTSTAMP:20260419T131444Z
LOCATION:Online
PRIORITY:5
SEQUENCE:0
SUMMARY;LANGUAGE=es-es:Tecnowebinars.com - :: Acoustics Simulation Using Ansys LS-DYNA
TRANSP:OPAQUE
UID:1b0275a3ae2982c8c479e6a285703c22 Tecnowebinars.com
X-MICROSOFT-CDO-BUSYSTATUS:BUSY
X-MICROSOFT-CDO-IMPORTANCE:1
X-MICROSOFT-DISALLOW-COUNTER:FALSE
X-MS-OLK-ALLOWEXTERNCHECK:TRUE
X-MS-OLK-AUTOFILLLOCATION:FALSE
X-MS-OLK-CONFTYPE:0
BEGIN:VALARM
TRIGGER:-PT1440M
ACTION:DISPLAY
DESCRIPTION:Reminder
END:VALARM
END:VEVENT
END:VCALENDAR
