BEGIN:VCALENDAR
PRODID:-//Microsoft Corporation//Outlook 12.0 MIMEDIR//EN
VERSION:2.0
METHOD:PUBLISH
X-MS-OLK-FORCEINSPECTOROPEN:TRUE
BEGIN:VEVENT
CLASS:PUBLIC
CREATED:20260419T131712Z
DESCRIPTION:While Ansys Minerva, powered by Aras, enables you to connect simulation and design teams, Ansys optiSLang connects the various tools that the team members use. See how this combination helps you capture, automate and deploy simulation more broadly across the enterprise. \n
DTSTART:20201201T160000
DTEND:20201201T170000
DTSTAMP:20260419T131712Z
LOCATION:Online
PRIORITY:5
SEQUENCE:0
SUMMARY;LANGUAGE=es-es:Tecnowebinars.com - :: Design Studies and Process Automation with Ansys optiSLang and Ansys Minerva, powered by Aras
TRANSP:OPAQUE
UID:5dc7c92373231c5145684cadb31fed9b Tecnowebinars.com
X-MICROSOFT-CDO-BUSYSTATUS:BUSY
X-MICROSOFT-CDO-IMPORTANCE:1
X-MICROSOFT-DISALLOW-COUNTER:FALSE
X-MS-OLK-ALLOWEXTERNCHECK:TRUE
X-MS-OLK-AUTOFILLLOCATION:FALSE
X-MS-OLK-CONFTYPE:0
BEGIN:VALARM
TRIGGER:-PT1440M
ACTION:DISPLAY
DESCRIPTION:Reminder
END:VALARM
END:VEVENT
END:VCALENDAR
