BEGIN:VCALENDAR
PRODID:-//Microsoft Corporation//Outlook 12.0 MIMEDIR//EN
VERSION:2.0
METHOD:PUBLISH
X-MS-OLK-FORCEINSPECTOROPEN:TRUE
BEGIN:VEVENT
CLASS:PUBLIC
CREATED:20260419T131445Z
DESCRIPTION:Speaker faculty includes:\nAnnie Agle, Director of Brand and Impact – Cotopaxi\nLeslie O'Regan-Yount, Supply Chain Professional – fmr. Carvana\nPeter Bogulaski. Operations Manager, Americas - Zound Industries\nNick Hunt, Enterprise Account Director – Tradeshift\nBig talking points include: \n \nThe Cost of Quality Data: Determine the ROI of developing a fully standardised and digitized process across suppliers\nThe Race To The Consumer: Understand the bottlenecks in the business strategy and use data to identify the causes, be they related to tech, labour or process.\nVisibility Across The Value Chain: Learn how to maximize visibility and efficiency across the value chain by rethinking outdated processes such as paperless invoicing.\n
DTSTART:20201209T170000
DTEND:20201209T180000
DTSTAMP:20260419T131445Z
LOCATION:Online
PRIORITY:5
SEQUENCE:0
SUMMARY;LANGUAGE=es-es:Tecnowebinars.com - :: Big Data: The key to a fast, consistent and transparent supply chain
TRANSP:OPAQUE
UID:0a2edef9551c4d42d3d11d2c4c830e31 Tecnowebinars.com
X-MICROSOFT-CDO-BUSYSTATUS:BUSY
X-MICROSOFT-CDO-IMPORTANCE:1
X-MICROSOFT-DISALLOW-COUNTER:FALSE
X-MS-OLK-ALLOWEXTERNCHECK:TRUE
X-MS-OLK-AUTOFILLLOCATION:FALSE
X-MS-OLK-CONFTYPE:0
BEGIN:VALARM
TRIGGER:-PT1440M
ACTION:DISPLAY
DESCRIPTION:Reminder
END:VALARM
END:VEVENT
END:VCALENDAR
