BEGIN:VCALENDAR
PRODID:-//Microsoft Corporation//Outlook 12.0 MIMEDIR//EN
VERSION:2.0
METHOD:PUBLISH
X-MS-OLK-FORCEINSPECTOROPEN:TRUE
BEGIN:VEVENT
CLASS:PUBLIC
CREATED:20260419T131712Z
DESCRIPTION:Modernization efforts that require consolidating multiple proven software systems onto a single intelligent edge platform are difficult. Fortunately, there are strategies that allow you to maintain your software integrity and partitioning while taking advantage of cutting edge software development technology. \nIn this webinar, subject matter experts from Wind River and AdaCore will demonstrate how you can map your existing architecture to guest operating systems on hypervisors, by using Wind River’s Helix Virtualization Platforms and software development tools from the compiler experts at AdaCore.\n \nIf you're already registered for the How To Enable the Intelligent Edge for Critical Avionics Software webcast, click below:\n \nSPEAKERS\nAlex Wilson\nDirector of Aerospace & Defense Industry Solutions\nWind RIver\nRobert Tice\nLead Technical Account Manager\nAdaCore\n
DTSTART:20201201T170000
DTEND:20201201T180000
DTSTAMP:20260419T131712Z
LOCATION:Online
PRIORITY:5
SEQUENCE:0
SUMMARY;LANGUAGE=es-es:Tecnowebinars.com - :: How To Enable the Intelligent Edge for Critical Avionics Software
TRANSP:OPAQUE
UID:b4258739b71cec748ce38d1efeebaaf0 Tecnowebinars.com
X-MICROSOFT-CDO-BUSYSTATUS:BUSY
X-MICROSOFT-CDO-IMPORTANCE:1
X-MICROSOFT-DISALLOW-COUNTER:FALSE
X-MS-OLK-ALLOWEXTERNCHECK:TRUE
X-MS-OLK-AUTOFILLLOCATION:FALSE
X-MS-OLK-CONFTYPE:0
BEGIN:VALARM
TRIGGER:-PT1440M
ACTION:DISPLAY
DESCRIPTION:Reminder
END:VALARM
END:VEVENT
END:VCALENDAR
