BEGIN:VCALENDAR
PRODID:-//Microsoft Corporation//Outlook 12.0 MIMEDIR//EN
VERSION:2.0
METHOD:PUBLISH
X-MS-OLK-FORCEINSPECTOROPEN:TRUE
BEGIN:VEVENT
CLASS:PUBLIC
CREATED:20260419T131529Z
DESCRIPTION:With more employees working from home, manufacturers must revisit their cybersecurity protocols to protect against new cyber-threats that have emerged in response to changes in how we work.\n \nAdditionally, cybersecurity is increasingly enforced in contracts and regulations, such as the Cybersecurity Maturity Model Certification (CMMC). Manufacturers and contractors should prepare accordingly.\n \nIn this webinar, MEP National Network cybersecurity expert Michael Kelleher will offer practical suggestions to combat emerging cyber-threats and secure your business going forward.\n \nPrimary Topics:\n• The latest cybersecurity threats since the COVID-19 crisis began\n• How you can respond to emerging cyber-threats\n• Tips to prepare for emerging requirements such as CMMC\n \nPresenter:\nMichael Kelleher\nCenter Director, Maryland MEP\n \n
DTSTART:20201210T190000
DTEND:20201210T200000
DTSTAMP:20260419T131529Z
LOCATION:Online
PRIORITY:5
SEQUENCE:0
SUMMARY;LANGUAGE=es-es:Tecnowebinars.com - :: Protecting Your Business From Cybersecurity Threats During COVID-19
TRANSP:OPAQUE
UID:35259a4898ac16eb8a9a3ef1be703bcc Tecnowebinars.com
X-MICROSOFT-CDO-BUSYSTATUS:BUSY
X-MICROSOFT-CDO-IMPORTANCE:1
X-MICROSOFT-DISALLOW-COUNTER:FALSE
X-MS-OLK-ALLOWEXTERNCHECK:TRUE
X-MS-OLK-AUTOFILLLOCATION:FALSE
X-MS-OLK-CONFTYPE:0
BEGIN:VALARM
TRIGGER:-PT1440M
ACTION:DISPLAY
DESCRIPTION:Reminder
END:VALARM
END:VEVENT
END:VCALENDAR
