BEGIN:VCALENDAR
PRODID:-//Microsoft Corporation//Outlook 12.0 MIMEDIR//EN
VERSION:2.0
METHOD:PUBLISH
X-MS-OLK-FORCEINSPECTOROPEN:TRUE
BEGIN:VEVENT
CLASS:PUBLIC
CREATED:20260419T143814Z
DESCRIPTION:This webinar showcases powerful enhancements made to Ansys Mechanical that span its end-to-end workflow.\nDesign Studies and Process Automation with Ansys optiSLang and Ansys Minerva, powered by Aras\n
DTSTART:20201126T150000
DTEND:20201126T160000
DTSTAMP:20260419T143814Z
LOCATION:Online
PRIORITY:5
SEQUENCE:0
SUMMARY;LANGUAGE=es-es:Tecnowebinars.com - :: Accelerate Productivity and Innovation with Ansys Mechanical
TRANSP:OPAQUE
UID:2d120d97e3d5345f5d5348a95d0481e8 Tecnowebinars.com
X-MICROSOFT-CDO-BUSYSTATUS:BUSY
X-MICROSOFT-CDO-IMPORTANCE:1
X-MICROSOFT-DISALLOW-COUNTER:FALSE
X-MS-OLK-ALLOWEXTERNCHECK:TRUE
X-MS-OLK-AUTOFILLLOCATION:FALSE
X-MS-OLK-CONFTYPE:0
BEGIN:VALARM
TRIGGER:-PT1440M
ACTION:DISPLAY
DESCRIPTION:Reminder
END:VALARM
END:VEVENT
END:VCALENDAR
