BEGIN:VCALENDAR
PRODID:-//Microsoft Corporation//Outlook 12.0 MIMEDIR//EN
VERSION:2.0
METHOD:PUBLISH
X-MS-OLK-FORCEINSPECTOROPEN:TRUE
BEGIN:VEVENT
CLASS:PUBLIC
CREATED:20260419T143729Z
DESCRIPTION: ¿Eres nuevo en iSpring Learn LMS y no estás seguro de cómo empezar? ¿O tal vez no sabías que tenemos un LMS que funciona perfectamente con tu herramienta de autor iSpring Suite?\nÚnete a nuestro próximo webinar, donde te mostraremos que configurar iSpring Learn no es nada difícil. Tendrás una descripción detallada de iSpring Learn y podrás ver si se adapta a las necesidades de tu negocio.\n \nDurante esta sesión vas a aprender:\n- Cómo cargar y estructurar tu contenido\n- Cómo crear un programa de aprendizaje\n- Cómo agregar alumnos e inscribirlos en cursos\n- Cómo configurar la inscripción automática en cursos\n- Cómo personalizar LMS con el logo y los colores de tu empresa\n- Cómo evaluar el desempeño de los alumnos para brindarles un mejor contenido\n
DTSTART:20201126T170000
DTEND:20201126T180000
DTSTAMP:20260419T143729Z
LOCATION:Online
PRIORITY:5
SEQUENCE:0
SUMMARY;LANGUAGE=es-es:Tecnowebinars.com - :: Cómo configurar iSpring Learn LMS: Una guía de la A a la Z
TRANSP:OPAQUE
UID:779e05cc646b36ae7db37b1c98a453de Tecnowebinars.com
X-MICROSOFT-CDO-BUSYSTATUS:BUSY
X-MICROSOFT-CDO-IMPORTANCE:1
X-MICROSOFT-DISALLOW-COUNTER:FALSE
X-MS-OLK-ALLOWEXTERNCHECK:TRUE
X-MS-OLK-AUTOFILLLOCATION:FALSE
X-MS-OLK-CONFTYPE:0
BEGIN:VALARM
TRIGGER:-PT1440M
ACTION:DISPLAY
DESCRIPTION:Reminder
END:VALARM
END:VEVENT
END:VCALENDAR
