BEGIN:VCALENDAR
PRODID:-//Microsoft Corporation//Outlook 12.0 MIMEDIR//EN
VERSION:2.0
METHOD:PUBLISH
X-MS-OLK-FORCEINSPECTOROPEN:TRUE
BEGIN:VEVENT
CLASS:PUBLIC
CREATED:20260419T131528Z
DESCRIPTION:En la actualidad las empresas han invertido importantes sumas de dinero en incorporar IA en las áreas de ventas, eccommerce, compras, logística.\nLos sectores productivos han quedado bastante alejados de esta realidad y de la conexión con el resto de la información de la empresa. Principalmente las PyMEs han sufrido un retraso, considerable en este tema.\nLos invitamos a recorrer durante la charla como empezar a transitar un camino de cambio que favorece la mejora continua, la calidad de los productos.\nMerma en las paradas de producción, disminución de productos que no cumplen con los requisitos, anticiparnos a los hechos con información on time y para toda la organización.\n
DTSTART:20201215T160000
DTEND:20201215T170000
DTSTAMP:20260419T131528Z
LOCATION:Online
PRIORITY:5
SEQUENCE:0
SUMMARY;LANGUAGE=es-es:Tecnowebinars.com - :: Inteligencia Artificial aplicada a la Fabricación
TRANSP:OPAQUE
UID:e0c36d177e637bdb50f485c2467ee446 Tecnowebinars.com
X-MICROSOFT-CDO-BUSYSTATUS:BUSY
X-MICROSOFT-CDO-IMPORTANCE:1
X-MICROSOFT-DISALLOW-COUNTER:FALSE
X-MS-OLK-ALLOWEXTERNCHECK:TRUE
X-MS-OLK-AUTOFILLLOCATION:FALSE
X-MS-OLK-CONFTYPE:0
BEGIN:VALARM
TRIGGER:-PT1440M
ACTION:DISPLAY
DESCRIPTION:Reminder
END:VALARM
END:VEVENT
END:VCALENDAR
