BEGIN:VCALENDAR
PRODID:-//Microsoft Corporation//Outlook 12.0 MIMEDIR//EN
VERSION:2.0
METHOD:PUBLISH
X-MS-OLK-FORCEINSPECTOROPEN:TRUE
BEGIN:VEVENT
CLASS:PUBLIC
CREATED:20260419T131529Z
DESCRIPTION:VER VIDEO \n \nEl experto en Ciberseguridad Alejandro Corletti Estrada, colaborador desde hace años de it-latino.net, nos presenta en este webinar su cuarto libro titulado  "Manual de la Resiliencia. Una Guía práctica de Ciberresiliencia en Redes y Sistemas de TI".\n \nEn ell libro, de 350 pgs., y descargable gratuitamente aquí, se desarrolla más específicamente el problema de “Ciberresiliencia”, aspecto que necesita tener hoy en día cualquier red o infraestructura de TI.\n \nLa “Información” es el centro del libro. Se considera que “Lo crítico es la INFORMACIÓN… no las infraestructuras” y nos presentan métodos, acciones y procedimientos concretos para custodiarla, protegerla y mantenerla íntegra durante todo su ciclo de vida.\n \nAlejandro comentará en el webinar el capítulo 3 titulado “El poder de la Información y las realidades inexistentes”, en el que interviene el General de División Evergisto de Vergaraque nos presenta este nuevo dominio militar de “la opinión”.\n \nContinuación de los anteriores\n \nEste nuevo libro es la continuación de los anteriores: “Seguridad por Niveles”(2011), “Seguridad en Redes” (2016) y “Ciberseguridad, una estrategia Informático / Militar” (2018). Todos ellos son el resultado de muchos años de apuntes, clases, cursos, artículos, conferencias y auditorías de seguridad que han sido recopilados y presentados de forma técnica, con muchos ejemplos,procedimientos, plantillas y ejercicios.\n \nVER VIDEO\n \n
DTSTART:20201209T190000
DTEND:20201209T200000
DTSTAMP:20260419T131529Z
LOCATION:Online
PRIORITY:5
SEQUENCE:0
SUMMARY;LANGUAGE=es-es:Tecnowebinars.com - :: Guía práctica de Ciberresiliencia en Redes y Sistemas de TI (Parte II)
TRANSP:OPAQUE
UID:764854f708e5bfbcd78d7a9d69422066 Tecnowebinars.com
X-MICROSOFT-CDO-BUSYSTATUS:BUSY
X-MICROSOFT-CDO-IMPORTANCE:1
X-MICROSOFT-DISALLOW-COUNTER:FALSE
X-MS-OLK-ALLOWEXTERNCHECK:TRUE
X-MS-OLK-AUTOFILLLOCATION:FALSE
X-MS-OLK-CONFTYPE:0
BEGIN:VALARM
TRIGGER:-PT1440M
ACTION:DISPLAY
DESCRIPTION:Reminder
END:VALARM
END:VEVENT
END:VCALENDAR
