BEGIN:VCALENDAR
PRODID:-//Microsoft Corporation//Outlook 12.0 MIMEDIR//EN
VERSION:2.0
METHOD:PUBLISH
X-MS-OLK-FORCEINSPECTOROPEN:TRUE
BEGIN:VEVENT
CLASS:PUBLIC
CREATED:20260419T143814Z
DESCRIPTION:Learn how to use Computational Fluid-Particle Dynamics (CFPD), plus Physiologically Based Pharmacokinetic (PBPK) models to noninvasively predict the fate of inhaled, therapeutic aerosols in 3D patient-specific human respiratory systems.\n \n
DTSTART:20201118T170000
DTEND:20201118T180000
DTSTAMP:20260419T143814Z
LOCATION:Online
PRIORITY:5
SEQUENCE:0
SUMMARY;LANGUAGE=es-es:Tecnowebinars.com - :: Toward Human Respiratory Digital Twin Using CFPD and PBPK Models
TRANSP:OPAQUE
UID:2d60ebfbcb386d75f62cb9644fa75a68 Tecnowebinars.com
X-MICROSOFT-CDO-BUSYSTATUS:BUSY
X-MICROSOFT-CDO-IMPORTANCE:1
X-MICROSOFT-DISALLOW-COUNTER:FALSE
X-MS-OLK-ALLOWEXTERNCHECK:TRUE
X-MS-OLK-AUTOFILLLOCATION:FALSE
X-MS-OLK-CONFTYPE:0
BEGIN:VALARM
TRIGGER:-PT1440M
ACTION:DISPLAY
DESCRIPTION:Reminder
END:VALARM
END:VEVENT
END:VCALENDAR
