BEGIN:VCALENDAR
PRODID:-//Microsoft Corporation//Outlook 12.0 MIMEDIR//EN
VERSION:2.0
METHOD:PUBLISH
X-MS-OLK-FORCEINSPECTOROPEN:TRUE
BEGIN:VEVENT
CLASS:PUBLIC
CREATED:20260419T131528Z
DESCRIPTION:With decentralized solutions for process automation and coordinated, digital communication, e.g. via IO-Link, a transparent and flexible plant design with fast localization and elimination of faults as well as simple installation and commissioning can be realized.\nThe direct air supply right up to the valve saves flexible control air lines and reduces compressed air consumption. In this way, you optimize the energy efficiency of the system and ensure short switching times.\n \nIntelligent control heads with important safety functions such as non-return valves and solutions for fast commissioning play a decisive role in efficient process monitoring. \n \nIn the webinar you will learn \n- Which advantages decentralized plant automation offers at field level\n- How digital communication creates added value for you\n- Important facts about IO-Link and AS-Interface (topology, parameters, diagnostic functions, software integration into the control level)\n- How to efficiently monitor your processes using intelligent control heads\n- What decentralized solutions look like in practice\n \nSpeakers:\nSebastian Kundel\nSenior Product Manager\nBurkert Fluid Control Systems\nAndrew Lamore\nField Segment Manager – Hygienic\nBurkert Fluid Control Systems\n \n
DTSTART:20201202T190000
DTEND:20201202T200000
DTSTAMP:20260419T131528Z
LOCATION:Online
PRIORITY:5
SEQUENCE:0
SUMMARY;LANGUAGE=es-es:Tecnowebinars.com - :: Industrial Communication and Intelligent Valve Solutions: Using the advantages of decentralized process automation
TRANSP:OPAQUE
UID:d03f9eb5d43c51a20db57797ea237555 Tecnowebinars.com
X-MICROSOFT-CDO-BUSYSTATUS:BUSY
X-MICROSOFT-CDO-IMPORTANCE:1
X-MICROSOFT-DISALLOW-COUNTER:FALSE
X-MS-OLK-ALLOWEXTERNCHECK:TRUE
X-MS-OLK-AUTOFILLLOCATION:FALSE
X-MS-OLK-CONFTYPE:0
BEGIN:VALARM
TRIGGER:-PT1440M
ACTION:DISPLAY
DESCRIPTION:Reminder
END:VALARM
END:VEVENT
END:VCALENDAR
