BEGIN:VCALENDAR
PRODID:-//Microsoft Corporation//Outlook 12.0 MIMEDIR//EN
VERSION:2.0
METHOD:PUBLISH
X-MS-OLK-FORCEINSPECTOROPEN:TRUE
BEGIN:VEVENT
CLASS:PUBLIC
CREATED:20260419T131529Z
DESCRIPTION:How can you modernize, innovate, and optimize with data for AI and cloud analytics? Today’s world requires an intelligent and automated approach with cloud-native capabilities to deliver business value, drive innovation, and optimize costs.\nJoin us at the Data for AI & Cloud Analytics Summit to learn cloud-native best practices from industry innovators and experts. You’ll discover how you can:\n \nTake the next step on your cloud data warehouse maturity journey\nAdvance your cloud-native capabilities beyond just basic data ingestion and hand coding\nGenerate business value and lower total cost of ownership\nCapitalize on hyper-automation and AI to increase productivity and achieve operational efficiency\n \n
DTSTART:20201209T140000
DTEND:20201209T150000
DTSTAMP:20260419T131529Z
LOCATION:Online
PRIORITY:5
SEQUENCE:0
SUMMARY;LANGUAGE=es-es:Tecnowebinars.com - :: Data for AI & Cloud Analytics Summit
TRANSP:OPAQUE
UID:01004881e26683e5389df4d779ee2cb2 Tecnowebinars.com
X-MICROSOFT-CDO-BUSYSTATUS:BUSY
X-MICROSOFT-CDO-IMPORTANCE:1
X-MICROSOFT-DISALLOW-COUNTER:FALSE
X-MS-OLK-ALLOWEXTERNCHECK:TRUE
X-MS-OLK-AUTOFILLLOCATION:FALSE
X-MS-OLK-CONFTYPE:0
BEGIN:VALARM
TRIGGER:-PT1440M
ACTION:DISPLAY
DESCRIPTION:Reminder
END:VALARM
END:VEVENT
END:VCALENDAR
