BEGIN:VCALENDAR
PRODID:-//Microsoft Corporation//Outlook 12.0 MIMEDIR//EN
VERSION:2.0
METHOD:PUBLISH
X-MS-OLK-FORCEINSPECTOROPEN:TRUE
BEGIN:VEVENT
CLASS:PUBLIC
CREATED:20260419T131442Z
DESCRIPTION:VER VIDEO\nEn la transformación digital la seguridad de la información es un elemento clave, tanto para proteger la Confidencialidad, Disponibilidad e Integridad de la información como para el cumplimiento normativo.\nLa ISO27001 cada día es más demandada por clientes a sus proveedores y para homologaciones y certificaciones en sectores muy variados de aplicaciones y de empresas.\nEn este Webinar veremos las ventajas de incorporar un modelo de gestión de la seguridad de la información, como afecta a aumentar la calidad de nuestros procesos de desarrollo y trabajo, así como otras múltiples ventajas que la empresa obtiene, bien si se adapta únicamente a la norma o bien si quiere obtener también el sello de calidad.\n
DTSTART:20201216T110000
DTEND:20201216T120000
DTSTAMP:20260419T131442Z
LOCATION:Online
PRIORITY:5
SEQUENCE:0
SUMMARY;LANGUAGE=es-es:Tecnowebinars.com - :: ISO 27001 como estándar de gestión de seguridad informática
TRANSP:OPAQUE
UID:5d2af7c145db0b219e2051308367c39f Tecnowebinars.com
X-MICROSOFT-CDO-BUSYSTATUS:BUSY
X-MICROSOFT-CDO-IMPORTANCE:1
X-MICROSOFT-DISALLOW-COUNTER:FALSE
X-MS-OLK-ALLOWEXTERNCHECK:TRUE
X-MS-OLK-AUTOFILLLOCATION:FALSE
X-MS-OLK-CONFTYPE:0
BEGIN:VALARM
TRIGGER:-PT1440M
ACTION:DISPLAY
DESCRIPTION:Reminder
END:VALARM
END:VEVENT
END:VCALENDAR
