BEGIN:VCALENDAR
PRODID:-//Microsoft Corporation//Outlook 12.0 MIMEDIR//EN
VERSION:2.0
METHOD:PUBLISH
X-MS-OLK-FORCEINSPECTOROPEN:TRUE
BEGIN:VEVENT
CLASS:PUBLIC
CREATED:20260419T143636Z
DESCRIPTION:La nueva coyuntura sanitaria y económica está forzando aún más al ecosistema empresarial a acelerar la transformación digital de sus procesos y modelos de negocio. El trabajo en remoto, las capacidades colaborativas y el reporting basado en una única versión de la verdad (SPOT) son ahora capacidades indispensables para poder tomar decisiones estratégicas y para mantenerse competitivo en el mercado.\nÚnete a la sesión de Sales Analytics y C-Level Reporting, junto con Alvaro Medina, Director de Transformación en OHL para conocer las mejores prácticas para convertir la compañía en data-driven. En la sesión se abordará:\nMejores prácticas y retos para migrar a una Data-Driven Company.\nCasos de uso en torno a la analítica de ventas y c-level reporting con Board.\nSesión de preguntas.\n \n
DTSTART:20201126T123000
DTEND:20201126T133000
DTSTAMP:20260419T143636Z
LOCATION:Online
PRIORITY:5
SEQUENCE:0
SUMMARY;LANGUAGE=es-es:Tecnowebinars.com - :: Sales Analytics & C-Level Reporting: Caso de éxito de OHL
TRANSP:OPAQUE
UID:ef69bfcc5b4ee6516b8e3acea4d17a15 Tecnowebinars.com
X-MICROSOFT-CDO-BUSYSTATUS:BUSY
X-MICROSOFT-CDO-IMPORTANCE:1
X-MICROSOFT-DISALLOW-COUNTER:FALSE
X-MS-OLK-ALLOWEXTERNCHECK:TRUE
X-MS-OLK-AUTOFILLLOCATION:FALSE
X-MS-OLK-CONFTYPE:0
BEGIN:VALARM
TRIGGER:-PT1440M
ACTION:DISPLAY
DESCRIPTION:Reminder
END:VALARM
END:VEVENT
END:VCALENDAR
