BEGIN:VCALENDAR
PRODID:-//Microsoft Corporation//Outlook 12.0 MIMEDIR//EN
VERSION:2.0
METHOD:PUBLISH
X-MS-OLK-FORCEINSPECTOROPEN:TRUE
BEGIN:VEVENT
CLASS:PUBLIC
CREATED:20260419T143610Z
DESCRIPTION:Virtual Sophos Day 2020 se celebrará el próximo jueves 19 de noviembre de 2020. Organizado por Sophos Iberia, este evento 100% virtual, contará con la presencia de grandes expertos en el sector de la ciberseguridad, También compartirán sus experiencias empresas destacadas y voces autorizadas de la industria.\nAgenda:\n10:00 CET\nPresentamos Sophos Evolve\nRuth Velasco y Anna Sensi \n10:10 CET\nBienvenidos a Sophos Evolve\nKris Hagerman, CEO Sophos\n10:25 CET\nEvolución en la estrategia de Ciberseguridad\nRicardo Maté, Country Manager Sophos Iberia\n10:55 CET\nCiberseguridad en la era del COVID-19\nKeren Elazari – Ponente invitada\nSecurity Analyst & Ethical Hacker\n11:40 CET\nTechnical Deep Dive: Cómo detener las amenazas más relevantes de 2020\nIván Mateos, Sales Engineer Sophos Iberia\n12:15 CET\nLive Hacking Demo, Hacking the human\nEduardo Sanchez – Ponente invitado\nAlberto R Rodas, SE Director Sophos Iberia\n13:00 CET\nAnalizando un ataque, desde su ejecución hasta su investigación\nAlberto R Rodas, SE Director Sophos Iberia\n13:35 CET\nMesa Redonda Ciberseguridad\n
DTSTART:20201119T100000
DTEND:20201119T143000
DTSTAMP:20260419T143610Z
LOCATION:Online
PRIORITY:5
SEQUENCE:0
SUMMARY;LANGUAGE=es-es:Tecnowebinars.com - :: Virtual Sophos Day 2020
TRANSP:OPAQUE
UID:713909148084249e7bfb811287852120 Tecnowebinars.com
X-MICROSOFT-CDO-BUSYSTATUS:BUSY
X-MICROSOFT-CDO-IMPORTANCE:1
X-MICROSOFT-DISALLOW-COUNTER:FALSE
X-MS-OLK-ALLOWEXTERNCHECK:TRUE
X-MS-OLK-AUTOFILLLOCATION:FALSE
X-MS-OLK-CONFTYPE:0
BEGIN:VALARM
TRIGGER:-PT1440M
ACTION:DISPLAY
DESCRIPTION:Reminder
END:VALARM
END:VEVENT
END:VCALENDAR
