BEGIN:VCALENDAR
PRODID:-//Microsoft Corporation//Outlook 12.0 MIMEDIR//EN
VERSION:2.0
METHOD:PUBLISH
X-MS-OLK-FORCEINSPECTOROPEN:TRUE
BEGIN:VEVENT
CLASS:PUBLIC
CREATED:20260419T143657Z
DESCRIPTION:¿No sería genial que su procesamiento de facturas estuviera totalmente automatizado? ¿Que tuviera una solución de software con IA integrada que aprende con cada factura nueva?¿Que sus procesos de facturas pudieran ser más eficientes y transparentes y que estuvieran integrado con ERP y otros sistemas de contabilidad financiera?\n \nTodo esto y más es posible con Doxis4. Le explicaremos cómo.\n \nEn este webinar le enseñaremos:\n \n- Cómo la gestión de facturas incrementa la rentabilidad del negocio y ahorra costes.\n- Cómo la tecnología de aprendizaje automático y la automatización mejoran y agilizan el procesamiento de facturas.\n- Cómo puede mejorar su liquidez, planificación y el control de sus procesos a la vez que minimiza errores.\n- Estudios de caso reales de clientes de todo el mundo que se benefician de las soluciones Doxis4: también perfectamente integrados con SAP. \n
DTSTART:20201118T113000
DTEND:20201118T120000
DTSTAMP:20260419T143657Z
LOCATION:Online
PRIORITY:5
SEQUENCE:0
SUMMARY;LANGUAGE=es-es:Tecnowebinars.com - :: Procesamiento con IA de Facturas con Doxis4
TRANSP:OPAQUE
UID:d4f2cef2f1bf0dd51f166f0ee155da34 Tecnowebinars.com
X-MICROSOFT-CDO-BUSYSTATUS:BUSY
X-MICROSOFT-CDO-IMPORTANCE:1
X-MICROSOFT-DISALLOW-COUNTER:FALSE
X-MS-OLK-ALLOWEXTERNCHECK:TRUE
X-MS-OLK-AUTOFILLLOCATION:FALSE
X-MS-OLK-CONFTYPE:0
BEGIN:VALARM
TRIGGER:-PT1440M
ACTION:DISPLAY
DESCRIPTION:Reminder
END:VALARM
END:VEVENT
END:VCALENDAR
