BEGIN:VCALENDAR
PRODID:-//Microsoft Corporation//Outlook 12.0 MIMEDIR//EN
VERSION:2.0
METHOD:PUBLISH
X-MS-OLK-FORCEINSPECTOROPEN:TRUE
BEGIN:VEVENT
CLASS:PUBLIC
CREATED:20260419T143610Z
DESCRIPTION:Para un ciberdelincuente cualquier contexto es bueno para atacar y ahora no tenemos al compañero de al lado para preguntar si estamos ante un correo fraudulento o no.\nPhish Threat ayuda a las empresas a concienciar a todos los empleados, incluso durante el teletrabajo, creando campañas simuladas de phishing y formando después con cursos online 100% prácticos.\nConozca cómo proteger y educar a sus usuarios en este interesante webinar. \n
DTSTART:20201113T113000
DTEND:20201113T123000
DTSTAMP:20260419T143610Z
LOCATION:Online
PRIORITY:5
SEQUENCE:0
SUMMARY;LANGUAGE=es-es:Tecnowebinars.com - :: El phishing, la creciente amenaza en teletrabajo
TRANSP:OPAQUE
UID:40845dca62ad989fab419c9544997c06 Tecnowebinars.com
X-MICROSOFT-CDO-BUSYSTATUS:BUSY
X-MICROSOFT-CDO-IMPORTANCE:1
X-MICROSOFT-DISALLOW-COUNTER:FALSE
X-MS-OLK-ALLOWEXTERNCHECK:TRUE
X-MS-OLK-AUTOFILLLOCATION:FALSE
X-MS-OLK-CONFTYPE:0
BEGIN:VALARM
TRIGGER:-PT1440M
ACTION:DISPLAY
DESCRIPTION:Reminder
END:VALARM
END:VEVENT
END:VCALENDAR
