BEGIN:VCALENDAR
PRODID:-//Microsoft Corporation//Outlook 12.0 MIMEDIR//EN
VERSION:2.0
METHOD:PUBLISH
X-MS-OLK-FORCEINSPECTOROPEN:TRUE
BEGIN:VEVENT
CLASS:PUBLIC
CREATED:20260419T143637Z
DESCRIPTION:Hemos preparado un Webinar práctico en el que os enseñaremos cómo realizar una correcta preparación y montaje de sus sistemas de medición por coordenadas de brazo articulado. \n \nAcompáñenos a ver paso a paso, lo que debemos hacer, una vez que hemos recibido el sistema de medición:\n \n- Montaje del equipo\n- Preparación y uso \n- Mantenimiento que se debe realizar al equipo\n- Tipo de calibración necesaria                    \n \n¿Por qué deben asistir?\n \nSerá una oportunidad única en la que podrán ampliar todo el conocimiento necesario acerca de los sistemas de medición portables y sacar el máximo rendimiento de uso sobre ellos; ya que al conocer en todo momento el estado metrológico en el que se encuentran, garantizarán la precisión en los trabajos de medición realizados. Mejorando así los sistemas productivos y de calidad del Departamento. \n \n¿Quiénes deben asistir?\n \nEste Webinar está dirigido a metrólogos, responsables de calidad, usuarios y personas que quieran tener información acerca de la preparación, funcionamiento, mantenimiento, calibración, etc. de sistemas de medición por coordenadas de brazo articulado. \n
DTSTART:20201124T110000
DTEND:20201124T120000
DTSTAMP:20260419T143637Z
LOCATION:Online
PRIORITY:5
SEQUENCE:0
SUMMARY;LANGUAGE=es-es:Tecnowebinars.com - :: Aprende todo sobre la correcta preparación y montaje del Brazo articulado
TRANSP:OPAQUE
UID:c69e79f05e73354c035a3a2116d9ed30 Tecnowebinars.com
X-MICROSOFT-CDO-BUSYSTATUS:BUSY
X-MICROSOFT-CDO-IMPORTANCE:1
X-MICROSOFT-DISALLOW-COUNTER:FALSE
X-MS-OLK-ALLOWEXTERNCHECK:TRUE
X-MS-OLK-AUTOFILLLOCATION:FALSE
X-MS-OLK-CONFTYPE:0
BEGIN:VALARM
TRIGGER:-PT1440M
ACTION:DISPLAY
DESCRIPTION:Reminder
END:VALARM
END:VEVENT
END:VCALENDAR
