BEGIN:VCALENDAR
PRODID:-//Microsoft Corporation//Outlook 12.0 MIMEDIR//EN
VERSION:2.0
METHOD:PUBLISH
X-MS-OLK-FORCEINSPECTOROPEN:TRUE
BEGIN:VEVENT
CLASS:PUBLIC
CREATED:20260419T143815Z
DESCRIPTION:Explore the exciting new enhancements to Ansys Fluent meshing workflows. Learn how engineers from the aerospace and defense industries can raise their efficiency with task-based workflows, Mosaic-enabled meshing technology and a streamlined user interface.\n
DTSTART:20201111T170000
DTEND:20201111T180000
DTSTAMP:20260419T143815Z
LOCATION:Online
PRIORITY:5
SEQUENCE:0
SUMMARY;LANGUAGE=es-es:Tecnowebinars.com - :: A Guided, Fluent Meshing Workflow for the A&D Industry
TRANSP:OPAQUE
UID:a1556a85cd8df5d622c058d7b9fab1ef Tecnowebinars.com
X-MICROSOFT-CDO-BUSYSTATUS:BUSY
X-MICROSOFT-CDO-IMPORTANCE:1
X-MICROSOFT-DISALLOW-COUNTER:FALSE
X-MS-OLK-ALLOWEXTERNCHECK:TRUE
X-MS-OLK-AUTOFILLLOCATION:FALSE
X-MS-OLK-CONFTYPE:0
BEGIN:VALARM
TRIGGER:-PT1440M
ACTION:DISPLAY
DESCRIPTION:Reminder
END:VALARM
END:VEVENT
END:VCALENDAR
