BEGIN:VCALENDAR
PRODID:-//Microsoft Corporation//Outlook 12.0 MIMEDIR//EN
VERSION:2.0
METHOD:PUBLISH
X-MS-OLK-FORCEINSPECTOROPEN:TRUE
BEGIN:VEVENT
CLASS:PUBLIC
CREATED:20260419T143529Z
DESCRIPTION:Let 5G Supercharge Your Edge-to-Cloud AI Connection Edge-based AI and 5G are two technologies in the spotlight. If we can combine their use, we can realize great gains. While Edge computing gains the benefits of low-latency, independence, and security, 5G can potentially keep these features intact while introducing Cloud computing. The high performance and GPU versatility of the NVIDIA Jetson series platform enables cloud-native computing for AI applications, from Cloud training and Edge inferencing, to speeding up the application process.\n \nIn this webinar, representatives from Aetina and NVIDIA will lay out an Edge AI solution that takes advantage of the bandwidth that comes with 5G communications, using the NVIDIA Jetson platform. A real-life case study will be used as the design example. You'll also hear how Edge AI applications can increase business efficiency/profitability.\n \nSpeaker:\nRichard Hung, Vice President, Aetina \nEason Hung, Solution Architect, Nvidia\n \nModerator: \nRich Nass, Embedded Computing Design, OpenSystems Media\n \n
DTSTART:20201112T170000
DTEND:20201112T180000
DTSTAMP:20260419T143529Z
LOCATION:Online
PRIORITY:5
SEQUENCE:0
SUMMARY;LANGUAGE=es-es:Tecnowebinars.com - :: AI embebido "on the edge" con 5g en placas NVIDIA Jetson
TRANSP:OPAQUE
UID:68eb45a49bd28c3a3314b6faaea2c3f7 Tecnowebinars.com
X-MICROSOFT-CDO-BUSYSTATUS:BUSY
X-MICROSOFT-CDO-IMPORTANCE:1
X-MICROSOFT-DISALLOW-COUNTER:FALSE
X-MS-OLK-ALLOWEXTERNCHECK:TRUE
X-MS-OLK-AUTOFILLLOCATION:FALSE
X-MS-OLK-CONFTYPE:0
BEGIN:VALARM
TRIGGER:-PT1440M
ACTION:DISPLAY
DESCRIPTION:Reminder
END:VALARM
END:VEVENT
END:VCALENDAR
