BEGIN:VCALENDAR
PRODID:-//Microsoft Corporation//Outlook 12.0 MIMEDIR//EN
VERSION:2.0
METHOD:PUBLISH
X-MS-OLK-FORCEINSPECTOROPEN:TRUE
BEGIN:VEVENT
CLASS:PUBLIC
CREATED:20260419T143814Z
DESCRIPTION:Depending on your perspective, autonomous vehicles have been with us for quite some time, or they're not even close to being here. The former is true in some cases where trials are being run for both passenger vehicles and for trucks. The latter is more the case when you look at mainstream driving down our crowded city streets.\n \nThis webinar will look at the components that are needed, both software and hardware, to close the gap between "almost here" and "they're everywhere."\n \nSpeaker:\nCrystal Tseng, Director of System Product Management, DFI\nRobert Schweiger, Solution Marketing Director for Automotive, Cadence\nRobert Day, Director Autonomous Vehicles, ARM\nBob Siller, Director, Product Marketing, Achronix\nJatinder Singh, Marketing Manager – Automotive, Lattice Semiconductor Corp\n \nModerator: \nRich Nass, Embedded Computing Design, OpenSystems Media\n
DTSTART:20201119T170000
DTEND:20201119T180000
DTSTAMP:20260419T143814Z
LOCATION:Online
PRIORITY:5
SEQUENCE:0
SUMMARY;LANGUAGE=es-es:Tecnowebinars.com - :: Software embebido para los coches autónomos. ¿Cómo vamos?
TRANSP:OPAQUE
UID:2e08d6971641b5c38d549a4c6753ca85 Tecnowebinars.com
X-MICROSOFT-CDO-BUSYSTATUS:BUSY
X-MICROSOFT-CDO-IMPORTANCE:1
X-MICROSOFT-DISALLOW-COUNTER:FALSE
X-MS-OLK-ALLOWEXTERNCHECK:TRUE
X-MS-OLK-AUTOFILLLOCATION:FALSE
X-MS-OLK-CONFTYPE:0
BEGIN:VALARM
TRIGGER:-PT1440M
ACTION:DISPLAY
DESCRIPTION:Reminder
END:VALARM
END:VEVENT
END:VCALENDAR
